BEGIN:VCALENDAR
VERSION:2.0
PRODID:-//Your Portland Oregon Guide! - ECPv6.15.20//NONSGML v1.0//EN
CALSCALE:GREGORIAN
METHOD:PUBLISH
X-ORIGINAL-URL:https://yourportlandguide.com
X-WR-CALDESC:Events for Your Portland Oregon Guide!
REFRESH-INTERVAL;VALUE=DURATION:PT1H
X-Robots-Tag:noindex
X-PUBLISHED-TTL:PT1H
BEGIN:VTIMEZONE
TZID:America/Los_Angeles
BEGIN:DAYLIGHT
TZOFFSETFROM:-0800
TZOFFSETTO:-0700
TZNAME:PDT
DTSTART:20250309T100000
END:DAYLIGHT
BEGIN:STANDARD
TZOFFSETFROM:-0700
TZOFFSETTO:-0800
TZNAME:PST
DTSTART:20251102T090000
END:STANDARD
BEGIN:DAYLIGHT
TZOFFSETFROM:-0800
TZOFFSETTO:-0700
TZNAME:PDT
DTSTART:20260308T100000
END:DAYLIGHT
BEGIN:STANDARD
TZOFFSETFROM:-0700
TZOFFSETTO:-0800
TZNAME:PST
DTSTART:20261101T090000
END:STANDARD
BEGIN:DAYLIGHT
TZOFFSETFROM:-0800
TZOFFSETTO:-0700
TZNAME:PDT
DTSTART:20270314T100000
END:DAYLIGHT
BEGIN:STANDARD
TZOFFSETFROM:-0700
TZOFFSETTO:-0800
TZNAME:PST
DTSTART:20271107T090000
END:STANDARD
END:VTIMEZONE
BEGIN:VEVENT
DTSTART;TZID=America/Los_Angeles:20260310T180000
DTEND;TZID=America/Los_Angeles:20260310T210000
DTSTAMP:20260421T191826
CREATED:20260220T004817Z
LAST-MODIFIED:20260220T004817Z
UID:10000025-1773165600-1773176400@yourportlandguide.com
SUMMARY:Liz Tomforde in Conversation With Sara Cate
DESCRIPTION:Join us on March 10th as we welcome Liz Tomforde in conversation with Sara Cate!\n\n\nAs the first female team owner in Major League Baseball\, Reese Remington has spent her entire life preparing for this role. With a sharp mind and years of experience working behind the scenes\, she’s more than qualified. But the public only sees a woman in a man’s world — not the person who’s earned their place on the field. Under constant scrutiny and pressure to prove herself\, Reese can’t afford distractions\, especially those that come in the form of the team’s tempting field manager who questions her every decision. Emmett Montgomery is a former All-Star turned coach who treats his players like family and the field like home. After years of running the team his way\, the last thing he wants is a new boss\, let alone one who seems ice-cold and laser-focused on business. But forced to spend long hours — and too many away games — side by side\, he begins to see the fire beneath Reese’s control\, the heart behind her ambition\, and the unwavering determination to prove herself. When heated banter turns into sizzling chemistry\, professional boundaries blur\, and the spark between them becomes impossible to resist. But Reese is constantly reminded of how many people are waiting for her to fail\, and the safest move is to keep Emmett at arm’s length — for the sake of the team\, the season\, and her career. But keeping their distance is one game neither of them can seem to win. In Her Own League (Entangled: Amara) is the new sports romance from Liz Tomforde\, author of the Windy City series. Tomforde will be joined in conversation by Sara Cate\, author of the Salacious Players’ Club series. \nPlease note: This is a ticketed event. Tickets include admission\, as well as one paperback copy of In Her Own League. Books distributed at event. \nDisclaimer: If you are not able to make it to the event after the refund period has lapsed\, your book will be held at the venue for 14 days following the event unless you reach out to our Customer Contact Center (help@powells.com). After that time the book is considered abandoned and we will restock the product to our inventory.
URL:https://yourportlandguide.com/event/liz-tomforde-in-conversation-with-sara-cate/
LOCATION:Powell’s City of Books\, 1005 West Burnside Street\, Portland\, OR\, 97209\, United States
END:VEVENT
BEGIN:VEVENT
DTSTART;TZID=America/Los_Angeles:20260310T180000
DTEND;TZID=America/Los_Angeles:20260310T210000
DTSTAMP:20260421T191826
CREATED:20260220T004817Z
LAST-MODIFIED:20260220T004817Z
UID:10000031-1773165600-1773176400@yourportlandguide.com
SUMMARY:Liz Tomforde in Conversation With Sara Cate
DESCRIPTION:Join us on March 10th as we welcome Liz Tomforde in conversation with Sara Cate!\n\n\nAs the first female team owner in Major League Baseball\, Reese Remington has spent her entire life preparing for this role. With a sharp mind and years of experience working behind the scenes\, she’s more than qualified. But the public only sees a woman in a man’s world — not the person who’s earned their place on the field. Under constant scrutiny and pressure to prove herself\, Reese can’t afford distractions\, especially those that come in the form of the team’s tempting field manager who questions her every decision. Emmett Montgomery is a former All-Star turned coach who treats his players like family and the field like home. After years of running the team his way\, the last thing he wants is a new boss\, let alone one who seems ice-cold and laser-focused on business. But forced to spend long hours — and too many away games — side by side\, he begins to see the fire beneath Reese’s control\, the heart behind her ambition\, and the unwavering determination to prove herself. When heated banter turns into sizzling chemistry\, professional boundaries blur\, and the spark between them becomes impossible to resist. But Reese is constantly reminded of how many people are waiting for her to fail\, and the safest move is to keep Emmett at arm’s length — for the sake of the team\, the season\, and her career. But keeping their distance is one game neither of them can seem to win. In Her Own League (Entangled: Amara) is the new sports romance from Liz Tomforde\, author of the Windy City series. Tomforde will be joined in conversation by Sara Cate\, author of the Salacious Players’ Club series. \nPlease note: This is a ticketed event. Tickets include admission\, as well as one paperback copy of In Her Own League. Books distributed at event. \nDisclaimer: If you are not able to make it to the event after the refund period has lapsed\, your book will be held at the venue for 14 days following the event unless you reach out to our Customer Contact Center (help@powells.com). After that time the book is considered abandoned and we will restock the product to our inventory.
URL:https://yourportlandguide.com/event/liz-tomforde-in-conversation-with-sara-cate-2/
LOCATION:Powell’s City of Books\, 1005 West Burnside Street\, Portland\, OR\, 97209\, United States
END:VEVENT
BEGIN:VEVENT
DTSTART;TZID=America/Los_Angeles:20260311T130000
DTEND;TZID=America/Los_Angeles:20260311T150000
DTSTAMP:20260421T191826
CREATED:20260220T010441Z
LAST-MODIFIED:20260220T010443Z
UID:10000060-1773234000-1773241200@yourportlandguide.com
SUMMARY:ALIGN Mastermind: Agents learning\, innovating\, growing NOW!
DESCRIPTION:All agents welcome! Join us for a FREE conversation with agents working in the business & crushing it! Get Aligned!\n\n\nVISIT FOR MORE DETAILS: https://alignmastermind.com \nThe ALIGN Mastermind is a collaborative\, brokerage-agnostic session designed for real estate professionals who are ready to trade generic advice for proven\, market-tested strategies. Led by Anne Stewart\, Dill Ward\, & Dawn Cordiner\, and featuring insights from industry leaders\, this mastermind focuses on the specific innovations and growth tactics currently driving results in the field. You will gain direct access to a community of high-achieving peers committed to elevating their business and their craft.  \nCome prepared to share ideas\, solve common hurdles\, and walk away with a clear roadmap for your next strategic move.
URL:https://yourportlandguide.com/event/align-mastermind-agents-learning-innovating-growing-now-2/
LOCATION:Mortgage Express\, LLC.\, 15115 Southwest Sequoia Parkway\, #100\, Portland\, OR\, 97224\, United States
ATTACH;FMTTYPE=image/jpeg:https://yourportlandguide.com/wp-content/uploads/2026/02/7e9608d5ad57afdbcc5cafb4969b9175.jpg
END:VEVENT
BEGIN:VEVENT
DTSTART;TZID=America/Los_Angeles:20260311T180000
DTEND;TZID=America/Los_Angeles:20260311T200000
DTSTAMP:20260421T191826
CREATED:20260220T005815Z
LAST-MODIFIED:20260220T005818Z
UID:10000042-1773252000-1773259200@yourportlandguide.com
SUMMARY:Witchy Watercolor @ Wonderlove
DESCRIPTION:Paint tarot postcards over candlelight and enjoy mini readings by Babetriarch Tarot. This magical night pops up at venues across town.\n\n\n✨ ✨ ✨ \nFull spectrum tarot painting! \nNo matter your experience in watercolor or tarot\, i believe in everyone’s ability to access and express your own internal visions. We will play and learn together. Come in for a magical night of creativity and care. \n✨ \nTicket includes all art supplies and step-by-step instruction for 2 postcard masterpieces. Add a tarot reading for $10 on site. \nOR \nPurchase the Luxe package with tarot reading included. 💫 \n \n🌙 \nJes (allthepronounsplz!) is a full time dreamer whose passion is celebrating the inherent creativity in us all. Lately\, the kids in her life have inspired her to let go and let watercolor. \nSee what she’s up to on Instagram @witchywatercolorsss 👁️ \nBook a private event at witchywatercolor.com 🎨 \n✨ \nKari (they) has been reading Tarot for friends\, family\, and clients for 20 years. As a daily practice\, they use it to set daily intentions and reflect on every day happenings through the Universe’s lens. Kari’s greatest desire is to feel whole\, seen\, and safe while offering the same to those around them. \nYou can see more on IG @babetriarch \n💫
URL:https://yourportlandguide.com/event/witchy-watercolor-wonderlove/
LOCATION:WonderLove\, 262 Southeast Main Street\, Portland\, OR\, 97214\, United States
END:VEVENT
BEGIN:VEVENT
DTSTART;TZID=America/Los_Angeles:20260313T170000
DTEND;TZID=America/Los_Angeles:20260313T223000
DTSTAMP:20260421T191826
CREATED:20260220T010709Z
LAST-MODIFIED:20260220T010710Z
UID:10000062-1773421200-1773441000@yourportlandguide.com
SUMMARY:Kells Irish Boxing
DESCRIPTION:Get ready for some epic fights and pure Irish spirit at Kells Irish Boxing—live and loud in the ring!\n\n\nGet Ready for Kells Irish Boxing!\nJoin us in person for an unforgettable night of boxing action with a true Irish flair. Whether you’re a die-hard fan or just curious\, Kells Irish Boxing promises punches\, passion\, and plenty of heart. \nCome soak up the atmosphere\, cheer on your favorites\, and experience the thrill live. Don’t miss out on this exciting event that brings the spirit of Ireland’s boxing tradition right to you!
URL:https://yourportlandguide.com/event/kells-irish-boxing/
LOCATION:Tom McCall Waterfront Park\, 98 Southwest Naito Parkway\, Portland\, OR\, 97204\, United States
END:VEVENT
BEGIN:VEVENT
DTSTART;TZID=America/Los_Angeles:20260313T210000
DTEND;TZID=America/Los_Angeles:20260313T223000
DTSTAMP:20260421T191826
CREATED:20260220T012301Z
LAST-MODIFIED:20260220T012302Z
UID:10000099-1773435600-1773441000@yourportlandguide.com
SUMMARY:THE JAY COLBY SHOW (LIVE IN PORTLAND) with guest from RUPAULS DRAG RACE
DESCRIPTION:THE JAY COLBY SHOW (LIVE IN PORTLAND) with guest from RUPAULS DRAG RACE\n\n\nTHE JAY COLBY SHOW (LIVE IN PORTLAND) with guest from RUPAULS DRAG RACE
URL:https://yourportlandguide.com/event/the-jay-colby-show-live-in-portland-with-guest-from-rupauls-drag-race/
LOCATION:1400 SE Morrison St\, 1400 Southeast Morrison Street\, Portland\, OR\, 97214\, United States
END:VEVENT
BEGIN:VEVENT
DTSTART;TZID=America/Los_Angeles:20260314T170000
DTEND;TZID=America/Los_Angeles:20260314T234500
DTSTAMP:20260421T191826
CREATED:20260220T010711Z
LAST-MODIFIED:20260220T010711Z
UID:10000063-1773507600-1773531900@yourportlandguide.com
SUMMARY:Portland's Irish Festival
DESCRIPTION:Irish festival Pass for Saturday evening.
URL:https://yourportlandguide.com/event/portlands-irish-festival/
LOCATION:Tom McCall Waterfront Park\, 98 Southwest Naito Parkway\, Portland\, OR\, 97204\, United States
END:VEVENT
BEGIN:VEVENT
DTSTART;TZID=America/Los_Angeles:20260314T170000
DTEND;TZID=America/Los_Angeles:20260314T234500
DTSTAMP:20260421T191826
CREATED:20260220T010711Z
LAST-MODIFIED:20260220T010711Z
UID:10000065-1773507600-1773531900@yourportlandguide.com
SUMMARY:Portland's Irish Festival
DESCRIPTION:Irish festival Pass for Saturday evening.
URL:https://yourportlandguide.com/event/portlands-irish-festival-2/
LOCATION:Tom McCall Waterfront Park\, 98 Southwest Naito Parkway\, Portland\, OR\, 97204\, United States
END:VEVENT
BEGIN:VEVENT
DTSTART;TZID=America/Los_Angeles:20260314T173000
DTEND;TZID=America/Los_Angeles:20260314T190000
DTSTAMP:20260421T191826
CREATED:20260220T004307Z
LAST-MODIFIED:20260220T004309Z
UID:10000020-1773509400-1773514800@yourportlandguide.com
SUMMARY:Witchy Collage Night: Manifestation
DESCRIPTION:Join us for Seagrape’s monthly collage night! This month\, we’ll craft a manifestation mood board. Join us for community & collage!\n\n\nJoin us for a monthly in-person Witchy Collage Night at Seagrape Apothecary! Dive into the realm of magic\, spells\, and self-care with like-minded babes in a cozy and welcoming atmosphere. We’ll connect\, collage and make new friends. \nThis month\, we will be collaging a manifestation mood board\, calling in what you want from spring. \nDate: Saturday\, March 14thTime: 5:30 – 7:00 PMLocation: Seagrape Apothecary\, 2823 NE Sandy Blvd. Portland\, OR 97232 \nThere will be tea to support your nervous system and a soft landing spot to share whatever is in your heart right now. Collage supplies will be provided but bring your own and some to share if you can (especially scissors\, washi tape + stickers) and come bask in the magic of community ♥️ If you have heart medicine or any other mutual aid to share please bring that as well. Snacks are always welcome! \n \nWhat you can expect at this gathering: \n\nTo craft a seasonal vision board (so bring your ideas!)\nTo mingle with fellow magical babes in a super sweet and casual environment\nPlease bring collage supplies you’d be willing to share! We’ll have some extra supplies\, but we always welcome more scissors\, glue\, and new magazines!\n\n \nJoin us on the second Saturday of each month as we come together to celebrate our magic through creativity and community. Space is limited! \n——————————————— \nNOTES: \n\nPlease bring a mask with you! You will be asked to wear your mask throughout class. If you’re experiencing any COVID symptoms prior to the gathering\, please do not attend the gathering.\nEnrollment is accepted up until the day of the event\, while spots are available.\nAttendees will be signed up for our newsletter\, full of free and juicy content every month. For more free offerings\, check out the Seagrape blog!\n\nSeagrape Apothecary Cancellation Policy: \nAll tickets are nonrefundable. \nIf Seagrape Apothecary reschedules a workshop or class and an attendee cannot attend the rescheduled workshop or class\, a class credit for the ticket value will be issued and will be valid for 1 year from the date of cancellation. \nIf Seagrape Apothecary cancels a workshop or class\, attendees will get the choice between class credit or a Seagrape Apothecary gift card. If class credit is chosen\, a credit for the ticket value will be issued and will be valid for 1 year from the date of cancellation. If the gift card is chosen\, a digital gift card worth the ticket value will be shared via email and valid for 1 year from the date of cancellation. \nCOVID Exceptions: If an attendee tests positive for COVID and reaches out prior to an in-person class to let us know\, a class credit for the ticket value will be issued and will be valid for 1 year. \nQuestions? Email us at events@seagrapeapothecary.com
URL:https://yourportlandguide.com/event/witchy-collage-night-manifestation/
LOCATION:Seagrape Apothecary\, 2823 Northeast Sandy Boulevard\, Portland\, OR\, 97232\, United States
END:VEVENT
BEGIN:VEVENT
DTSTART;TZID=America/Los_Angeles:20260314T180000
DTEND;TZID=America/Los_Angeles:20260314T210000
DTSTAMP:20260421T191826
CREATED:20260220T012303Z
LAST-MODIFIED:20260220T012303Z
UID:10000100-1773511200-1773522000@yourportlandguide.com
SUMMARY:Spring Break Kick Off Party! (BADLANDS PDX - Saturday MARCH 14)
DESCRIPTION:Spring Break Kick Off Party! (BADLANDS PDX – Saturday MARCH 14) With RUPAULS DRAG RACE SEASON 17 DIVAS!\n\n\nSpring Break KICK OFF PARTY at BADLANDS PDX! \nDOORS OPEN 6pm / SHOW STARTS 7pm! \nSome of your favorite divas of RUPAUL’S DRAG RACE\, SEASON 17 are taking over with Jay Colby! \nMEET & GREET – AFTER THE SHOW @ 9pm!
URL:https://yourportlandguide.com/event/spring-break-kick-off-party-badlands-pdx-saturday-march-14/
LOCATION:Badlands Portland\, 110 Northwest Broadway\, Portland\, OR\, 97209\, United States
END:VEVENT
BEGIN:VEVENT
DTSTART;TZID=America/Los_Angeles:20260314T180000
DTEND;TZID=America/Los_Angeles:20260314T210000
DTSTAMP:20260421T191826
CREATED:20260220T012304Z
LAST-MODIFIED:20260220T012304Z
UID:10000094-1773511200-1773522000@yourportlandguide.com
SUMMARY:Spring Break Kick Off Party! (BADLANDS PDX - Saturday MARCH 14)
DESCRIPTION:Spring Break Kick Off Party! (BADLANDS PDX – Saturday MARCH 14) With RUPAULS DRAG RACE SEASON 17 DIVAS!\n\n\nSpring Break KICK OFF PARTY at BADLANDS PDX! \nDOORS OPEN 6pm / SHOW STARTS 7pm! \nSome of your favorite divas of RUPAUL’S DRAG RACE\, SEASON 17 are taking over with Jay Colby! \nMEET & GREET – AFTER THE SHOW @ 9pm!
URL:https://yourportlandguide.com/event/spring-break-kick-off-party-badlands-pdx-saturday-march-14-2/
LOCATION:Badlands Portland\, 110 Northwest Broadway\, Portland\, OR\, 97209\, United States
END:VEVENT
BEGIN:VEVENT
DTSTART;TZID=America/Los_Angeles:20260315T110000
DTEND;TZID=America/Los_Angeles:20260315T133000
DTSTAMP:20260421T191826
CREATED:20260220T012305Z
LAST-MODIFIED:20260220T012306Z
UID:10000101-1773572400-1773581400@yourportlandguide.com
SUMMARY:DRAG BRUNCH BAR-CALA (Sunday March 15) RUPAUL'S DRAG RACE SPECIAL
DESCRIPTION:DRAG BRUNCH BAR-CALA (Sunday March 15) RUPAUL’S DRAG RACE SPECIAL\n\n\nDRAG BRUNCH BAR-CALA (Sunday MARCH 15) \nA RUPAULS DRAG RACE SEASON 17 TAKE OVER!\n💃 Expect Glitter\, Glamour\, and Show-Stopping Performances! 💃Our queens will light up the stage with their talent\, fierce moves\, and unforgettable charisma. You’ll be on your feet cheering as they deliver an epic performance designed to lift your spirits and leave you in awe. \n🍽️ Get Ready to Feast and Have Fun! 🍽️Indulge in delicious brunch options while watching the most fabulous queens in town. It’s a perfect blend of drag\, dancing\, and deliciousness that will leave you smiling all day long! \n✨ Don’t Miss Out – Last 4 Brunches Sold Out! ✨This event sells out fast\, so get your tickets now to ensure you’re part of the fun! Bring your ones to tip the queens (they love a good tip!) and be sure to show up in your most fabulous brunch look. The queens want to see your style\, darling! \n🎉 All Ages Welcome – PG-13 Vibes Only! 🎉Whether you’re here for the sparkle\, the sass\, or the drag\, this is a family-friendly event (with a cheeky twist!)—perfect for all ages! \n🔥 Arrive Early to Secure the Best Seats! 🔥This is a first-come\, first-served seating event\, so arrive early to snag the best view of the stage. Trust us\, you’ll want to be up close for all the action! \nDon’t wait—grab your tickets today and be ready for a brunch experience that’s as fabulous as you are! 💖 \nSee you there\, diva!!! \n(CHECK OUT @BRUNCHPORTLAND on IG for videos and photos from PAST events!
URL:https://yourportlandguide.com/event/drag-brunch-bar-cala-sunday-march-15-rupauls-drag-race-special/
LOCATION:Bar Cala\, 2703 Northeast Alberta Street\, Portland\, OR\, 97211\, United States
END:VEVENT
BEGIN:VEVENT
DTSTART;TZID=America/Los_Angeles:20260315T140000
DTEND;TZID=America/Los_Angeles:20260315T160000
DTSTAMP:20260421T191826
CREATED:20260220T011518Z
LAST-MODIFIED:20260220T011518Z
UID:10000082-1773583200-1773590400@yourportlandguide.com
SUMMARY:Free Flag Rugby Introductory Clinic -Girls Rugby
DESCRIPTION:We’re offering a free flag rugby clinic for girls in 2nd-8th grade – come join us and learn how to play rugby!\n\n\nGet ready to tackle the field and learn the ropes of flag rugby with a fun and supportive group of girls! FREE for girls in 2nd-8th grade. \nGirls Rugby is pleased to offer a FREE introductory clinic for girls in grades 2-8! \nOver the course of the clinic\, players will have the opportunity to become rugby super stars as they work on their passing\, catching\, running\, flag-pulling\, and scoring techniques. All of our Girls Rugby Coaches will deliver exciting activities and games\, giving each participant a truly memorable experience. In addition to building their rugby skills\, campers will also get to experience the values-based curriculum where Camp Coaches introduce core values and life skills through engaging and interactive activities. \nFor more information please contact oregon@girlsrugbyinc.com \nWHEN & WHERE:\nSunday\, August 17th2:00pm – 3:30pmNormandale Park – NE 57th Avenue and Halsey Street\, Portland\, OR 97213 \nPlease register here. \n*The clinic is free to attend. We invite participants to ‘pay what they can’ by making a donation to Girls Rugby at girlsrugby.org/donate
URL:https://yourportlandguide.com/event/free-flag-rugby-introductory-clinic-girls-rugby-3/
LOCATION:Normandale Park\, Northeast Halsey Street\, Portland\, OR\, 97213\, United States
END:VEVENT
BEGIN:VEVENT
DTSTART;TZID=America/Los_Angeles:20260315T140000
DTEND;TZID=America/Los_Angeles:20260315T160000
DTSTAMP:20260421T191826
CREATED:20260220T011518Z
LAST-MODIFIED:20260220T011518Z
UID:10000083-1773583200-1773590400@yourportlandguide.com
SUMMARY:Free Flag Rugby Introductory Clinic -Girls Rugby
DESCRIPTION:We’re offering a free flag rugby clinic for girls in 2nd-8th grade – come join us and learn how to play rugby!\n\n\nGet ready to tackle the field and learn the ropes of flag rugby with a fun and supportive group of girls! FREE for girls in 2nd-8th grade. \nGirls Rugby is pleased to offer a FREE introductory clinic for girls in grades 2-8! \nOver the course of the clinic\, players will have the opportunity to become rugby super stars as they work on their passing\, catching\, running\, flag-pulling\, and scoring techniques. All of our Girls Rugby Coaches will deliver exciting activities and games\, giving each participant a truly memorable experience. In addition to building their rugby skills\, campers will also get to experience the values-based curriculum where Camp Coaches introduce core values and life skills through engaging and interactive activities. \nFor more information please contact oregon@girlsrugbyinc.com \nWHEN & WHERE:\nSunday\, August 17th2:00pm – 3:30pmNormandale Park – NE 57th Avenue and Halsey Street\, Portland\, OR 97213 \nPlease register here. \n*The clinic is free to attend. We invite participants to ‘pay what they can’ by making a donation to Girls Rugby at girlsrugby.org/donate
URL:https://yourportlandguide.com/event/free-flag-rugby-introductory-clinic-girls-rugby-2/
LOCATION:Normandale Park\, Northeast Halsey Street\, Portland\, OR\, 97213\, United States
END:VEVENT
BEGIN:VEVENT
DTSTART;TZID=America/Los_Angeles:20260315T143000
DTEND;TZID=America/Los_Angeles:20260315T170000
DTSTAMP:20260421T191826
CREATED:20260220T012307Z
LAST-MODIFIED:20260220T012308Z
UID:10000102-1773585000-1773594000@yourportlandguide.com
SUMMARY:DRAG BRUNCH BAR-CALA (Sunday March 15) RUPAUL'S DRAG RACE SPECIAL
DESCRIPTION:DRAG BRUNCH BAR-CALA (Sunday March 15) RUPAUL’S DRAG RACE SPECIAL\n\n\nDRAG BRUNCH BAR-CALA (Sunday MARCH 15) \nA RUPAULS DRAG RACE SEASON 17 TAKE OVER!\n💃 Expect Glitter\, Glamour\, and Show-Stopping Performances! 💃Our queens will light up the stage with their talent\, fierce moves\, and unforgettable charisma. You’ll be on your feet cheering as they deliver an epic performance designed to lift your spirits and leave you in awe. \n🍽️ Get Ready to Feast and Have Fun! 🍽️Indulge in delicious brunch options while watching the most fabulous queens in town. It’s a perfect blend of drag\, dancing\, and deliciousness that will leave you smiling all day long! \n✨ Don’t Miss Out – Last 4 Brunches Sold Out! ✨This event sells out fast\, so get your tickets now to ensure you’re part of the fun! Bring your ones to tip the queens (they love a good tip!) and be sure to show up in your most fabulous brunch look. The queens want to see your style\, darling! \n🎉 All Ages Welcome – PG-13 Vibes Only! 🎉Whether you’re here for the sparkle\, the sass\, or the drag\, this is a family-friendly event (with a cheeky twist!)—perfect for all ages! \n🔥 Arrive Early to Secure the Best Seats! 🔥This is a first-come\, first-served seating event\, so arrive early to snag the best view of the stage. Trust us\, you’ll want to be up close for all the action! \nDon’t wait—grab your tickets today and be ready for a brunch experience that’s as fabulous as you are! 💖 \nSee you there\, diva!!! \n(CHECK OUT @BRUNCHPORTLAND on IG for videos and photos from PAST events!
URL:https://yourportlandguide.com/event/drag-brunch-bar-cala-sunday-march-15-rupauls-drag-race-special-2/
LOCATION:Bar Cala\, 2703 Northeast Alberta Street\, Portland\, OR\, 97211\, United States
END:VEVENT
END:VCALENDAR