BEGIN:VCALENDAR
VERSION:2.0
PRODID:-//Your Portland Oregon Guide! - ECPv6.15.20//NONSGML v1.0//EN
CALSCALE:GREGORIAN
METHOD:PUBLISH
X-WR-CALNAME:Your Portland Oregon Guide!
X-ORIGINAL-URL:https://yourportlandguide.com
X-WR-CALDESC:Events for Your Portland Oregon Guide!
REFRESH-INTERVAL;VALUE=DURATION:PT1H
X-Robots-Tag:noindex
X-PUBLISHED-TTL:PT1H
BEGIN:VTIMEZONE
TZID:America/Los_Angeles
BEGIN:DAYLIGHT
TZOFFSETFROM:-0800
TZOFFSETTO:-0700
TZNAME:PDT
DTSTART:20250309T100000
END:DAYLIGHT
BEGIN:STANDARD
TZOFFSETFROM:-0700
TZOFFSETTO:-0800
TZNAME:PST
DTSTART:20251102T090000
END:STANDARD
BEGIN:DAYLIGHT
TZOFFSETFROM:-0800
TZOFFSETTO:-0700
TZNAME:PDT
DTSTART:20260308T100000
END:DAYLIGHT
BEGIN:STANDARD
TZOFFSETFROM:-0700
TZOFFSETTO:-0800
TZNAME:PST
DTSTART:20261101T090000
END:STANDARD
BEGIN:DAYLIGHT
TZOFFSETFROM:-0800
TZOFFSETTO:-0700
TZNAME:PDT
DTSTART:20270314T100000
END:DAYLIGHT
BEGIN:STANDARD
TZOFFSETFROM:-0700
TZOFFSETTO:-0800
TZNAME:PST
DTSTART:20271107T090000
END:STANDARD
END:VTIMEZONE
BEGIN:VEVENT
DTSTART;TZID=America/Los_Angeles:20260224T190000
DTEND;TZID=America/Los_Angeles:20260224T230000
DTSTAMP:20260421T194200
CREATED:20260220T010156Z
LAST-MODIFIED:20260220T010156Z
UID:10000057-1771959600-1771974000@yourportlandguide.com
SUMMARY:Tuesday Blues - Live Blues Social - Having the blues never felt so good
DESCRIPTION:Tuesday Blues is an all ages\, weekly social partner dancing event open to people of all dance backgrounds and experiences
URL:https://yourportlandguide.com/event/tuesday-blues-live-blues-social-having-the-blues-never-felt-so-good/
LOCATION:Hoku Events on Madison\, 1125 Southeast Madison Street\, Portland\, OR\, 97214\, United States
END:VEVENT
BEGIN:VEVENT
DTSTART;TZID=America/Los_Angeles:20260227T170000
DTEND;TZID=America/Los_Angeles:20260227T200000
DTSTAMP:20260421T194200
CREATED:20260220T011322Z
LAST-MODIFIED:20260220T011324Z
UID:10000079-1772211600-1772222400@yourportlandguide.com
SUMMARY:The Wild Bunch Preview Party
DESCRIPTION:Join us for The Wild Bunch Preview Party\, taking over Mac Market for a night of wine\, food and music\, celebrating 5 years of The Wild Bunch.\n\n\nPortland’s biggest wine fair\, The Wild Bunch\, is kicking off its 5-year anniversary with a preview party in McMinnville at Mac Market. Featuring 10 wine and cider makers\, food from Honey Pie Pizza and Alea\, and special guest Tournant\, drinks from Day by Day\, and music by DJ Stay Soft. Wellspent Market will be selling bottles to go so you can take your favorite wines home with you. \nTickets cover wine tasting with food and additional beverage available for purchase. Mac Market will be open to the public all evening so bring your friends and families!
URL:https://yourportlandguide.com/event/the-wild-bunch-preview-party/
LOCATION:Mac Market\, 1140 Northeast Alpine Avenue\, McMinnville\, OR\, 97128\, United States
END:VEVENT
BEGIN:VEVENT
DTSTART;TZID=America/Los_Angeles:20260227T190000
DTEND;TZID=America/Los_Angeles:20260227T233000
DTSTAMP:20260421T194200
CREATED:20260220T010155Z
LAST-MODIFIED:20260220T010155Z
UID:10000056-1772218800-1772235000@yourportlandguide.com
SUMMARY:Barefoot Fusion - Friday Social Dance Club
DESCRIPTION:Barefoot is a weekly fusion dance event that remains a creative dance community at its heart. All dance levels are welcome.
URL:https://yourportlandguide.com/event/barefoot-fusion-friday-social-dance-club-2/
LOCATION:Tango Berretin\, 6305 Southeast Foster Road\, Portland\, OR\, 97206\, United States
END:VEVENT
BEGIN:VEVENT
DTSTART;TZID=America/Los_Angeles:20260227T210000
DTEND;TZID=America/Los_Angeles:20260228T014500
DTSTAMP:20260421T194200
CREATED:20260220T011908Z
LAST-MODIFIED:20260220T011910Z
UID:10000086-1772226000-1772243100@yourportlandguide.com
SUMMARY:NEON Holi Glow Party | DJ Prashant | Bollywood EDM | Portland
DESCRIPTION:A vibrant night of neon outfits\, UV Face + body paint\, and Desi & American music for a non-stop dance party with DJ Prashant\n\n\nCome dressed in neon colors\, get face and body paint\, and celebrate Holi — India’s Festival of Colors — under the blacklights at The Den. \nExpect a mix of classic Holi & Desi party hits + exlusive mashups by DJ Prashant! \n🟢🟡🟣🔵 \nGrab your tickets ASAP for guaranteed entry – this party typically sells out! 🎉\n\nWHAT IS JAI HO! DANCE PARTY?\nIt’s a dance party with roating themes\, centered on creating community\, showcasing culture\, and connecting people through music and dance. Everyone is welcome! \n\n\n\n\n🟡 EVENT DETAILS\n\nFriday\, February 27\, 2026 | 9 PM to 1:45 AM\nBollywood\, Punjabi\, South Indian\, and American EDM Mashups & Remixes by DJ Prashant\nDance Performances\n21+ welcome with official ID required\nA night hosted & curated by DJ Prashant\n\n🟢 VENUE \nThe Den\n116 SE Yamhill St\, Portland\, OR 97217\, United States \n\n\n🟢 IMPORTANT \nCome dressed to glow and get adorned with NEON face paint! 🎨 \n✅ We’ll have blacklights all around the venue ⚡️ \n✅ Tickets include Glow In The Dark Accessories & Party Favors while supplies last \n✅ Neon Face Painters onsite 🎨 \n✅ Stay tuned for Holi Special Performance Announcements! \n\n\n\n🟣 YOUR DJ & HOST\n\n\n\nPRASHANT:\nPrashant is an ex-Intel engineer turned DJ\, choreographer\, singer\, and event producer. He’s known for viral mashups and exclusive\, genre-blending DJ sets that fuse signature edits with interactive dance moments—plus 20M+ YouTube views and 50K+ subscribers. \n \nHis mission is simple: bring cultures together and keep you dancing longer than you thought possible. \n \n➳ @dreamprashant \n➳ TEDx Talk + Music & Dance Videos: https://linktr.ee/dreamprashant \n\n\n\n🎨✨ Face Art by Becky Schmidt 🎨✨ \nPortland\, get ready — Becky Schmidt is joining us again for Neon Holi\, and she’s bringing her waterproof neon face paint that stays put no matter how hard you dance. 🪩🔥 \nThink bold neon lines\, glowing designs\, glitter\, jewels — the perfect way to upgrade your  looks under the UV lights.Stop by her station and glow even brighter. ✨ \n👉 @foxtalefacepainting \n \n\n\n🟢 TERMS & CONDITIONS\n\nPhotos and videos captured during this event will be shared on our social media platforms & may be used for promoting events such as this one\nYou may receive an email with party photos and will be added to our mailing list\nBollywood Dreams reserves rights to use media captured at the event anywhere without seeking prior permission\nWe are not liable or responsible for any injury or theft during or after the event\nNo refunds or chargebacks\n\n\n\n\n📸 WHAT DO OUR PARTIES LOOK LIKE? Check it out!\nScroll down or Click Here for more party photos! \n\n\n\n\n\n\n\n\n\n☾ ABOUT JAI HO! DANCE PARTY \nThe most joyful dance party experience across the U.S. since 2010! \n \nFacebook Page: http://facebook.com/jaihodanceparty \n \nInstagram Page: http://instagram.com/jaihodanceparty \n \nYoutube: http://youtube.com/jaihoparty \n \nGet transported to an experience that is akin to being in a Bollywood musical complete with interactive dance lessons\, performances & non-stop hard-hitting beats from the east. Founded in 2010 by Prashant\, an immigrant turned DJ\, & like-minded friends\, Jai Ho! is a celebration of Indian music & dance like no other. \n\n\n\n\n\n☾ GUIDELINES AT EVERY JAI HO! \nCreating a safe & celebratory space is our priority at every event we host. \n \nWe would love for you to be an accomplice of ours by greeting & treating everyone you meet like you would like to be treated\, with equality\, mutual respect\, and a big smile. We know this does not apply to you because you are awesome but for the other people to whom this may be relevant\, we have zero tolerance for bigotry\, racist remarks\, and generally reckless behavior. \n \nOver the course of the night\, Punjabi\, Bollywood\, South Indian songs\, and music from across South Asia (new & old) will make their way into our DJs playlist. So contribute positively\, uplift everyone around you\, tip your bartenders well\, and enjoy the music being played. \n \n☾ PHOTOS & VIDEOS DURING THE EVENT \nBy purchasing tickets to our events\, you acknowledge that there might be photographers and videographers and that these photos and videos could be used for promotional purposes on our platforms. \n\n\n\n\n\n\n❤️ HOSTING A PRIVATE EVENT? \nWhen not hosting my own dance nights\, I love DJ’ing for weddings\, private and corporate events. Contact me through my website http://dreamsperfected.com if you want to work with me to throw a memorable shindig!
URL:https://yourportlandguide.com/event/neon-holi-glow-party-dj-prashant-bollywood-edm-portland/
LOCATION:The Den Portland\, 116 SE Yamhill St\,\, Portland\, OR\, 97217\, United States
END:VEVENT
BEGIN:VEVENT
DTSTART;TZID=America/Los_Angeles:20260228T220000
DTEND;TZID=America/Los_Angeles:20260301T010000
DTSTAMP:20260421T194200
CREATED:20260220T012035Z
LAST-MODIFIED:20260220T012035Z
UID:10000087-1772316000-1772326800@yourportlandguide.com
SUMMARY:Ken Hop Presents PDX’s #1 K-Pop Party Vol 27
DESCRIPTION:Get ready to dance all night at Ken Hop Presents PDX’s #1 K-Pop Party Vol 27 – the ultimate K-pop fest!\n\n\nKen Hop Presents PDX’s #1 K-Pop Party Vol 27\nGet ready for an epic night of K-Pop vibes and nonstop fun! Join us in person for the 27th edition of Portland’s hottest K-Pop party hosted by Ken Hop. Dance\, sing\, and connect with fellow fans as we celebrate all your favorite hits. Don’t miss out on the ultimate K-Pop experience in PDX—it’s gonna be lit!
URL:https://yourportlandguide.com/event/ken-hop-presents-pdxs-1-k-pop-party-vol-27/
LOCATION:Elevate Nightclub\, 125 NW 5th Ave\, Portland\, OR\, 97203\, United States
END:VEVENT
BEGIN:VEVENT
DTSTART;TZID=America/Los_Angeles:20260228T220000
DTEND;TZID=America/Los_Angeles:20260301T010000
DTSTAMP:20260421T194200
CREATED:20260220T012036Z
LAST-MODIFIED:20260220T012036Z
UID:10000088-1772316000-1772326800@yourportlandguide.com
SUMMARY:Ken Hop Presents PDX’s #1 K-Pop Party Vol 27
DESCRIPTION:Get ready to dance all night at Ken Hop Presents PDX’s #1 K-Pop Party Vol 27 – the ultimate K-pop fest!\n\n\nKen Hop Presents PDX’s #1 K-Pop Party Vol 27\nGet ready for an epic night of K-Pop vibes and nonstop fun! Join us in person for the 27th edition of Portland’s hottest K-Pop party hosted by Ken Hop. Dance\, sing\, and connect with fellow fans as we celebrate all your favorite hits. Don’t miss out on the ultimate K-Pop experience in PDX—it’s gonna be lit!
URL:https://yourportlandguide.com/event/ken-hop-presents-pdxs-1-k-pop-party-vol-27-2/
LOCATION:Elevate Nightclub\, 125 NW 5th Ave\, Portland\, OR\, 97203\, United States
END:VEVENT
BEGIN:VEVENT
DTSTART;TZID=America/Los_Angeles:20260301T100000
DTEND;TZID=America/Los_Angeles:20260301T140000
DTSTAMP:20260421T194200
CREATED:20260220T011615Z
LAST-MODIFIED:20260220T011615Z
UID:10000084-1772359200-1772373600@yourportlandguide.com
SUMMARY:Strength & Sip Wellness Social
DESCRIPTION:Join us for a fun and relaxed gathering of wellness enthusiasts at our Strength & Sip Wellness Social!\n\n\nJoin us for Strength & Sip Wellness Social\, a feel good wellness event designed to bring the community together through movement\, connection\, and local business support. This unique fitness meets social experience features a low-impact\, full-body workout blending strength training\, Pilates-style movement\, and light HIIT\, including signature core work led by Angie Mesenbrink of Tatted Mama Training. The class is approachable for all fitness levels and focused on building strength while having fun. \nAfter the workout\, enjoy time to mingle\, shop a variety of wellness and lifestyle vendors\, and soak in the uplifting community vibe. Guests can explore local brands\, connect with like minded individuals\, and browse the beautiful winery property\, making this event as much about relaxation and connection as it is about movement. The event will be professionally photographed and covered by Founder Baylie Mason of Precision Content. Throughout the event\, attendees can also enter to win multiple giveaways and raffle prizes. Plus\, every guest will go home with a swag bag packed with fun surprises and goodies from our incredible vendors and sponsors. \n \n🎟 Admission: This is a free event with RSVP. Walk-ins are welcome for $10 at the door. \n💜 Giving Back: A portion of this event will support a local organization Family Peace Center of Washington County that helps individuals affected by domestic violence\, allowing our community to come together for both wellness and a meaningful cause. \nCome sweat a little\, sip a little\, and leave feeling inspired. \nWe invite you to follow us on social media as we will be sharing more about the event and vendors! \nInstagram: @precisioncontent @tattedmamatraining @abbeyroadevents
URL:https://yourportlandguide.com/event/strength-sip-wellness-social/
LOCATION:Abbey Road Farm (Indoor)\, 10501 Northeast Abbey Road\, Carlton\, OR\, 97111\, United States
END:VEVENT
BEGIN:VEVENT
DTSTART;TZID=America/Los_Angeles:20260301T100000
DTEND;TZID=America/Los_Angeles:20260301T140000
DTSTAMP:20260421T194200
CREATED:20260220T011615Z
LAST-MODIFIED:20260220T011615Z
UID:10000085-1772359200-1772373600@yourportlandguide.com
SUMMARY:Strength & Sip Wellness Social
DESCRIPTION:Join us for a fun and relaxed gathering of wellness enthusiasts at our Strength & Sip Wellness Social!\n\n\nJoin us for Strength & Sip Wellness Social\, a feel good wellness event designed to bring the community together through movement\, connection\, and local business support. This unique fitness meets social experience features a low-impact\, full-body workout blending strength training\, Pilates-style movement\, and light HIIT\, including signature core work led by Angie Mesenbrink of Tatted Mama Training. The class is approachable for all fitness levels and focused on building strength while having fun. \nAfter the workout\, enjoy time to mingle\, shop a variety of wellness and lifestyle vendors\, and soak in the uplifting community vibe. Guests can explore local brands\, connect with like minded individuals\, and browse the beautiful winery property\, making this event as much about relaxation and connection as it is about movement. The event will be professionally photographed and covered by Founder Baylie Mason of Precision Content. Throughout the event\, attendees can also enter to win multiple giveaways and raffle prizes. Plus\, every guest will go home with a swag bag packed with fun surprises and goodies from our incredible vendors and sponsors. \n \n🎟 Admission: This is a free event with RSVP. Walk-ins are welcome for $10 at the door. \n💜 Giving Back: A portion of this event will support a local organization Family Peace Center of Washington County that helps individuals affected by domestic violence\, allowing our community to come together for both wellness and a meaningful cause. \nCome sweat a little\, sip a little\, and leave feeling inspired. \nWe invite you to follow us on social media as we will be sharing more about the event and vendors! \nInstagram: @precisioncontent @tattedmamatraining @abbeyroadevents
URL:https://yourportlandguide.com/event/strength-sip-wellness-social-2/
LOCATION:Abbey Road Farm (Indoor)\, 10501 Northeast Abbey Road\, Carlton\, OR\, 97111\, United States
END:VEVENT
BEGIN:VEVENT
DTSTART;TZID=America/Los_Angeles:20260301T110000
DTEND;TZID=America/Los_Angeles:20260301T133000
DTSTAMP:20260421T194200
CREATED:20260220T012257Z
LAST-MODIFIED:20260220T012257Z
UID:10000092-1772362800-1772371800@yourportlandguide.com
SUMMARY:DRAG BRUNCH BAR-CALA (Sunday March 1st)
DESCRIPTION:DRAG BRUNCH BAR-CALA (Sunday March 1st)\n\n\n💃 Expect Glitter\, Glamour\, and Show-Stopping Performances! 💃Our queens will light up the stage with their talent\, fierce moves\, and unforgettable charisma. You’ll be on your feet cheering as they deliver an epic performance designed to lift your spirits and leave you in awe. \n🍽️ Get Ready to Feast and Have Fun! 🍽️Indulge in delicious brunch options while watching the most fabulous queens in town. It’s a perfect blend of drag\, dancing\, and deliciousness that will leave you smiling all day long! \n✨ Don’t Miss Out – Last 4 Brunches Sold Out! ✨This event sells out fast\, so get your tickets now to ensure you’re part of the fun! Bring your ones to tip the queens (they love a good tip!) and be sure to show up in your most fabulous brunch look. The queens want to see your style\, darling! \n🎉 All Ages Welcome – PG-13 Vibes Only! 🎉Whether you’re here for the sparkle\, the sass\, or the drag\, this is a family-friendly event (with a cheeky twist!)—perfect for all ages! \n🔥 Arrive Early to Secure the Best Seats! 🔥This is a first-come\, first-served seating event\, so arrive early to snag the best view of the stage. Trust us\, you’ll want to be up close for all the action! \nDon’t wait—grab your tickets today and be ready for a brunch experience that’s as fabulous as you are! 💖 \nSee you there\, diva!!! \n(CHECK OUT @BRUNCHPORTLAND on IG for videos and photos from PAST events!
URL:https://yourportlandguide.com/event/drag-brunch-bar-cala-sunday-march-1st-2/
LOCATION:Bar Cala\, 2703 Northeast Alberta Street\, Portland\, OR\, 97211\, United States
END:VEVENT
BEGIN:VEVENT
DTSTART;TZID=America/Los_Angeles:20260301T110000
DTEND;TZID=America/Los_Angeles:20260301T133000
DTSTAMP:20260421T194200
CREATED:20260220T012257Z
LAST-MODIFIED:20260220T012257Z
UID:10000097-1772362800-1772371800@yourportlandguide.com
SUMMARY:DRAG BRUNCH BAR-CALA (Sunday March 1st)
DESCRIPTION:DRAG BRUNCH BAR-CALA (Sunday March 1st)\n\n\n💃 Expect Glitter\, Glamour\, and Show-Stopping Performances! 💃Our queens will light up the stage with their talent\, fierce moves\, and unforgettable charisma. You’ll be on your feet cheering as they deliver an epic performance designed to lift your spirits and leave you in awe. \n🍽️ Get Ready to Feast and Have Fun! 🍽️Indulge in delicious brunch options while watching the most fabulous queens in town. It’s a perfect blend of drag\, dancing\, and deliciousness that will leave you smiling all day long! \n✨ Don’t Miss Out – Last 4 Brunches Sold Out! ✨This event sells out fast\, so get your tickets now to ensure you’re part of the fun! Bring your ones to tip the queens (they love a good tip!) and be sure to show up in your most fabulous brunch look. The queens want to see your style\, darling! \n🎉 All Ages Welcome – PG-13 Vibes Only! 🎉Whether you’re here for the sparkle\, the sass\, or the drag\, this is a family-friendly event (with a cheeky twist!)—perfect for all ages! \n🔥 Arrive Early to Secure the Best Seats! 🔥This is a first-come\, first-served seating event\, so arrive early to snag the best view of the stage. Trust us\, you’ll want to be up close for all the action! \nDon’t wait—grab your tickets today and be ready for a brunch experience that’s as fabulous as you are! 💖 \nSee you there\, diva!!! \n(CHECK OUT @BRUNCHPORTLAND on IG for videos and photos from PAST events!
URL:https://yourportlandguide.com/event/drag-brunch-bar-cala-sunday-march-1st/
LOCATION:Bar Cala\, 2703 Northeast Alberta Street\, Portland\, OR\, 97211\, United States
END:VEVENT
BEGIN:VEVENT
DTSTART;TZID=America/Los_Angeles:20260301T140000
DTEND;TZID=America/Los_Angeles:20260301T160000
DTSTAMP:20260421T194200
CREATED:20260220T011516Z
LAST-MODIFIED:20260220T011517Z
UID:10000081-1772373600-1772380800@yourportlandguide.com
SUMMARY:Free Flag Rugby Introductory Clinic -Girls Rugby
DESCRIPTION:x\n\n\nGet ready to tackle the field and learn the ropes of flag rugby with a fun and supportive group of girls! FREE for girls in 2nd-8th grade. \nGirls Rugby is pleased to offer a FREE introductory clinic for girls in grades 2-8! \nOver the course of the clinic\, players will have the opportunity to become rugby super stars as they work on their passing\, catching\, running\, flag-pulling\, and scoring techniques. All of our Girls Rugby Coaches will deliver exciting activities and games\, giving each participant a truly memorable experience. In addition to building their rugby skills\, campers will also get to experience the values-based curriculum where Camp Coaches introduce core values and life skills through engaging and interactive activities. \nFor more information please contact oregon@girlsrugbyinc.com \nWHEN & WHERE:\nSunday\, August 17th2:00pm – 3:30pmNormandale Park – NE 57th Avenue and Halsey Street\, Portland\, OR 97213 \nPlease register here. \n*The clinic is free to attend. We invite participants to ‘pay what they can’ by making a donation to Girls Rugby at girlsrugby.org/donate
URL:https://yourportlandguide.com/event/free-flag-rugby-introductory-clinic-girls-rugby/
LOCATION:Normandale Park\, Northeast Halsey Street\, Portland\, OR\, 97213\, United States
END:VEVENT
END:VCALENDAR