BEGIN:VCALENDAR
VERSION:2.0
PRODID:-//Your Portland Oregon Guide! - ECPv6.15.20//NONSGML v1.0//EN
CALSCALE:GREGORIAN
METHOD:PUBLISH
X-ORIGINAL-URL:https://yourportlandguide.com
X-WR-CALDESC:Events for Your Portland Oregon Guide!
REFRESH-INTERVAL;VALUE=DURATION:PT1H
X-Robots-Tag:noindex
X-PUBLISHED-TTL:PT1H
BEGIN:VTIMEZONE
TZID:America/Los_Angeles
BEGIN:DAYLIGHT
TZOFFSETFROM:-0800
TZOFFSETTO:-0700
TZNAME:PDT
DTSTART:20250309T100000
END:DAYLIGHT
BEGIN:STANDARD
TZOFFSETFROM:-0700
TZOFFSETTO:-0800
TZNAME:PST
DTSTART:20251102T090000
END:STANDARD
BEGIN:DAYLIGHT
TZOFFSETFROM:-0800
TZOFFSETTO:-0700
TZNAME:PDT
DTSTART:20260308T100000
END:DAYLIGHT
BEGIN:STANDARD
TZOFFSETFROM:-0700
TZOFFSETTO:-0800
TZNAME:PST
DTSTART:20261101T090000
END:STANDARD
BEGIN:DAYLIGHT
TZOFFSETFROM:-0800
TZOFFSETTO:-0700
TZNAME:PDT
DTSTART:20270314T100000
END:DAYLIGHT
BEGIN:STANDARD
TZOFFSETFROM:-0700
TZOFFSETTO:-0800
TZNAME:PST
DTSTART:20271107T090000
END:STANDARD
END:VTIMEZONE
BEGIN:VEVENT
DTSTART;TZID=America/Los_Angeles:20260110T110000
DTEND;TZID=America/Los_Angeles:20260110T150000
DTSTAMP:20260421T194404
CREATED:20260107T060851Z
LAST-MODIFIED:20260107T060851Z
UID:10000014-1768042800-1768057200@yourportlandguide.com
SUMMARY:Free Kids Event: Storytime Adventures (Lake Oswego)
DESCRIPTION:Make one-of-a-kind crafts and explore hands-on activities! Ages 3+. Children must be accompanied by an adult.
URL:https://yourportlandguide.com/event/free-kids-event-storytime-adventures-lake-oswego/
LOCATION:Lakeshore Learning Store\, 16901 Southwest 65th Avenue\, Lake Oswego\, OR\, 97035\, United States
END:VEVENT
BEGIN:VEVENT
DTSTART;TZID=America/Los_Angeles:20260110T180000
DTEND;TZID=America/Los_Angeles:20260110T200000
DTSTAMP:20260421T194404
CREATED:20260107T052208Z
LAST-MODIFIED:20260107T052208Z
UID:10000007-1768068000-1768075200@yourportlandguide.com
SUMMARY:Witchy Watercolor @ Chill N’ Fill
DESCRIPTION:Paint tarot postcards over candlelight and enjoy mini readings by Babetriarch Tarot. This magical night pops up at venues across town.\n\n\n✨ ✨ ✨ \nFull spectrum tarot painting! \nNo matter your experience in watercolor or tarot\, i believe in everyone’s ability to access and express your own internal visions. We will play and learn together. Come in for a magical night of creativity and care. \n✨ \nTicket includes all art supplies and step-by-step instruction for 2 postcard masterpieces. Add a tarot reading for $10 on site. \nOR \nPurchase the Luxe package with tarot reading included. 💫 \n \n🌙 \nJes (allthepronounsplz!) is a full time dreamer whose passion is celebrating the inherent creativity in us all. Lately\, the kids in her life have inspired her to let go and let watercolor. \nSee what she’s up to on Instagram @witchywatercolorsss 👁️ \nBook a private event at witchywatercolor.com 🎨 \n✨ \nKari (they) has been reading Tarot for friends\, family\, and clients for 20 years. As a daily practice\, they use it to set daily intentions and reflect on every day happenings through the Universe’s lens. Kari’s greatest desire is to feel whole\, seen\, and safe while offering the same to those around them. \nYou can see more on IG @babetriarch \n💫
URL:https://yourportlandguide.com/event/witchy-watercolor-chill-n-fill/
LOCATION:Chill N Fill\, 5215 North Lombard Street\, Portland\, OR\, 97203\, United States
ATTACH;FMTTYPE=image/jpeg:https://yourportlandguide.com/wp-content/uploads/2026/01/f4e8c27d2229884a7fbbd4b56ac5fc70.jpg
END:VEVENT
BEGIN:VEVENT
DTSTART;TZID=America/Los_Angeles:20260114T173000
DTEND;TZID=America/Los_Angeles:20260114T190000
DTSTAMP:20260421T194404
CREATED:20260107T061302Z
LAST-MODIFIED:20260107T061302Z
UID:10000017-1768411800-1768417200@yourportlandguide.com
SUMMARY:Magnet - A Different Kind Of Networking
DESCRIPTION:What if the exact person you unknowingly needed to connect with at a networking event was already looking for you?\n\n\nWhat if the person who could further your career was already looking for you? \nWhat if a room full of people knew exactly the insight you sought? \nWhat if your knowledge could be someone else’s Eureka moment? \nWelcome to Magnet. Where you can let your net…work. \n \nSome of the feedback from previous Magnet events:\n“Genius.” \n“Amazing!” \n“Brilliantly devised. 10/10.” \n“Where has this been my whole life?” \n“Best Networking Event I’ve ever been to!” \n \nHere’s how it works.\nAt the event\, you write down on a sheet of paper something you need help with (aka “your ask”) and tape it on the wall\, for example: \nI need a literary agent. \nI need to chat with someone who has started a technology incubator. \nI need to connect with someone at GOOD Magazine. \nI need to hire a web developer capable of setting up a digital sales platform. \nDoes anyone have any contacts in Prague? \nDoes anyone know a good personal trainer? \nDoes anyone know how I can play a round at Augusta National Golf Club? \nIt can be anything! \n \nEach sheet will have a unique number associated with it: (1\, 2\, 3\, etc). You’ll have a name tag with that same number. \nEveryone’s task will be to look at the board of opportunities and select at least 3 people you’d like to connect with\, in whatever capacity. \nHow do you connect with them? You write your name and “sheet number” on a Post-It note and slap it on their sheet. \nLike this: \n\n\n\nIn the end\, your sheet will look something like:\n\n\nLeading to moments like these:\n\n\n\n\n\n\nThe idea is doing more than just getting to know each other\, but seeing how we can help and support each other. It’s not who you know\, it’s who knows what you want. \nOur ability to simultaneously pursue our own goals while being mindful and supportive of other people’s goals is fundamental to human life – so fundamental\, in fact that we have trouble turning it off. – Clay Shirky \nMagnet. It’s actionable networking for the 21st Century. \nMagnetically Yours\, \nBassam Tarazi\, Founder
URL:https://yourportlandguide.com/event/magnet-a-different-kind-of-networking/
LOCATION:Kiln\, 1120 Southeast Madison Street\, Portland\, OR\, 97214\, United States
END:VEVENT
BEGIN:VEVENT
DTSTART;TZID=America/Los_Angeles:20260116T180000
DTEND;TZID=America/Los_Angeles:20260116T200000
DTSTAMP:20260421T194404
CREATED:20260107T052211Z
LAST-MODIFIED:20260107T052211Z
UID:10000008-1768586400-1768593600@yourportlandguide.com
SUMMARY:Witchy Watercolor @ PDX Sliders on Williams
DESCRIPTION:Paint tarot postcards over candlelight and enjoy mini readings by Babetriarch Tarot. This magical night pops up at venues across town.\n\n\n✨ ✨ ✨ \nFull spectrum tarot painting! \nNo matter your experience in watercolor or tarot\, i believe in everyone’s ability to access and express your own internal visions. We will play and learn together. Come in for a magical night of creativity and care. \n✨ \nTicket includes all art supplies and step-by-step instruction for 2 postcard masterpieces. Add a tarot reading for $10 on site. \nOR \nPurchase the Luxe package with tarot reading included. 💫 \n \nPlease NOTE: we’ll be at the WILLIAMS location.  \n🌙 \nJes (allthepronounsplz!) is a full time dreamer whose passion is celebrating the inherent creativity in us all. Lately\, the kids in her life have inspired her to let go and let watercolor. \nSee what she’s up to on Instagram @witchywatercolorsss 👁️ \nBook a private event at witchywatercolor.com 🎨 \n✨ \nKari (they) has been reading Tarot for friends\, family\, and clients for 20 years. As a daily practice\, they use it to set daily intentions and reflect on every day happenings through the Universe’s lens. Kari’s greatest desire is to feel whole\, seen\, and safe while offering the same to those around them. \nYou can see more on IG @babetriarch \n💫
URL:https://yourportlandguide.com/event/witchy-watercolor-pdx-sliders-on-williams/
LOCATION:PDX Sliders\, 4232 North Williams Avenue\, Portland\, OR\, 97211\, United States
END:VEVENT
BEGIN:VEVENT
DTSTART;TZID=America/Los_Angeles:20260117T190000
DTEND;TZID=America/Los_Angeles:20260117T220000
DTSTAMP:20260421T194404
CREATED:20260107T060102Z
LAST-MODIFIED:20260107T060102Z
UID:10000010-1768676400-1768687200@yourportlandguide.com
SUMMARY:"Velvet Valentine" Portrait Meet
DESCRIPTION:A romantic\, draped-in-luxury photoshoot experience.\n\n\n❤️ VELVET VALENTINE ❤️ Portrait Meet\nLocation: Cobalt Studios\, Portland\, ORDate: Saturday\, January 17 from 7-10pmHosted by: Capture Collective PNWMembers: Sloane Simmons\, Asher Rain\, Cody Keto\, Ashley NicolePartnered with: Pro Photo SupplyOpen to: Models & Photographers \n✨ What to Expect\nStep into a world of soft textures\, rich tones\, and Valentine’s Day romance. Velvet Valentine is a styled portrait meet featuring three fully designed velvet-draped sets for everyone to rotate through\, each with its own holiday aesthetic: \n💗 SET 1 — Pink Velvet SweetheartSoft\, silky blush velvet draped from floor to ceiling.Props include: vintage rotary phone\, satin accessories\, matching blush props and textures \nThis set is flirty\, dreamy\, and soft. \n❤️ SET 2 — Red Velvet Candle ChamberA dramatic crimson velvet backdrop draped in rich folds.Set elements: tall pillar candles + votives\, mixed-height candelabras\, glass cylinders with candle clusters\, red rose floral accents \nThink romantic drama\, glowing warmth\, and luxe Valentine seduction. \n🤍 SET 3 — White Velvet Crystal GardenAn ethereal\, elegant white velvet backdrop with: hanging rose curtains\, crystal bead strands\, soft pearl elements\, and luminous lighting \nThe perfect angelic Valentine aesthetic. \n📸 Check out our inspiration board for the vibe we’re going for: CLICK HERE \n💲 REFER A FRIEND AND GET 15% OFF YOUR NEXT PORTRAIT MEET 💲💲 NEW ATTENDEES GET 10% OFF 💲 EMAIL OR DM ON INSTAGRAM FOR THE CODE \nPhotographers Should Bring\n💗 Camera & lenses💗 Any additional gear\, lights\, or props you’d like to use \n \nModels\n❤️ Come up with your look inspired by our theme and sets.❤️ Coordinate your outfit\, hair\, and makeup with your chosen aesthetic. \n \n📸 Socials: \n🤍 @capturecollectivepnw🤍 @prophotosupply🤍 @sloane.shots🤍 @asherrainphotography🤍 @codyketophotography🤍 @anicole_b
URL:https://yourportlandguide.com/event/velvet-valentine-portrait-meet/
LOCATION:Cobalt Studios PDX\, 1030 Southeast Clinton Street\, Portland\, OR\, 97202\, United States
END:VEVENT
BEGIN:VEVENT
DTSTART;TZID=America/Los_Angeles:20260118T180000
DTEND;TZID=America/Los_Angeles:20260118T200000
DTSTAMP:20260421T194404
CREATED:20260107T051835Z
LAST-MODIFIED:20260107T051835Z
UID:10000006-1768759200-1768766400@yourportlandguide.com
SUMMARY:HER TABLE: AN EVENT FOR WOMEN who want to build something strong together.
DESCRIPTION:Entrepreneurs at Her Table can connect in a meaningful way\, refine their brands and move into the new year with support and confidence.\n\n\nWelcome to Her Table!\nJoin us for an exciting evening filled with great food\, drinks and fellowship. Her Table is a curated gathering for women\, hosted in partnership with a female owned restaurant\, where guests can exchange ideas and learn creative ways to take their small business to the next level. \n2026 is a new year filled with opportunity and hope. Learn about the many different networking events and grant programs for women owned businesses of all types. \nCome along with us\, our team of professionals and lets meet this moment together. \nSee you there!
URL:https://yourportlandguide.com/event/her-table-an-event-for-women-who-want-to-build-something-strong-together/
LOCATION:Que Dice Restaurant\, 121 Northwest 5th Avenue\, Portland\, OR\, 97209\, United States
ATTACH;FMTTYPE=image/jpeg:https://yourportlandguide.com/wp-content/uploads/2026/01/71a2a038dd19ce50ee8efa76baa76a8f.jpg
END:VEVENT
BEGIN:VEVENT
DTSTART;TZID=America/Los_Angeles:20260124T090000
DTEND;TZID=America/Los_Angeles:20260124T180000
DTSTAMP:20260421T194404
CREATED:20260107T061239Z
LAST-MODIFIED:20260107T061239Z
UID:10000016-1769245200-1769277600@yourportlandguide.com
SUMMARY:Shamrock Shakeout Party and Go Shamrock Group Training!
DESCRIPTION:Free community event with a 2/4/6 mile run/walk  & green pancakes\, green beer and raffles and a huge resolution sale on shoes and gear!\n\n\nSHAMROCK SHAKEOUT FREE EVENT! \nFirst 25 to RSVP get a free gift from our sponsor!\nThe Shamrock Run and Walk is BACK and we can’t wait to see you outside\, moving\, and having fun! Foot Traffic and the Shamrock Run are joining forces again to bring you our annual pre-race ice breaker party\, the Shamrock Shakeout. This free event works perfect as a pre-spring rust buster and an excuse to get your friends together to start thinking about training for this Spring’s event. \nWHERE & WHEN: \n\nJan. 24th\, Foot Traffic Northeast (4020 NE Fremont St.)\nMeet at: 9am | Run/Walk: 9:15am\n10am: Raffle\, green pancakes and beer\, and fun!\nFREE EVENT but capped at 400 people in 2026! \nFree gift to first 25 to RSVP!\n2\, 4\, and 6 mile options on our “clover” course.\nEveryone gets a raffle ticket when you finish. Prizes from sponsors and the race!\nRegistration options for the Shamrock Run that day as well!\nRESOLUTION SALE! Big discounts on all gear in the store and closeouts on shoes and apparel.\n\n \nBONUS: JOIN THE GO SHAMROCK  Training Series & get a sweet Asics tech shirt & 4 WEEKS OF GROUP TRAINING!\nChoose from: \n\n“Couch to Sham” training. Let’s start from the beginning! We’ll get you ready for a 5K or 8K in just 5 weeks! Weekly progression of  2 miles\, 3 miles\, 3 miles\,  3 miles. \n“Final Prep”  Shamrock 15K/Half: Jump in for some long workouts with friends for your final push to race day. Weekly progression of 6 miles\, 7 miles\, 8 miles\, 9 miles. \n\nSign up for our “Train Lucky” Shamrock prep training series! Series takes place on 5 consecutive Saturday mornings before the race including the Shamrock Shakeout event. Free group run/walk lead by our staff and coaches\, plus a training education topic for each meeting! Includes Free Tech training shirt!\n\nONLY $35 for 4 weeks of training and the SHIRT!\n\n\nFoot Traffic Northeast\, Jan. 24th: Shamrock Shakeout Kick-off event!\nFoot Traffic Vancouver\, Jan. 31st: Building strength and addressing injuries now. 2 and 6 mile options.\nFoot Traffic on NW 23rd\, Feb. 7th: Nutrition and Fueling for the long workout. 3 and 7 mile options. \nCedar Mill\, Feb. 14th: Fast is relative. Improving YOUR speed with intervals\, hills\, & fartleks. 3 and 8 mile options\nSoutheast\, FEB. 21st! Joining the first day of GO PORTLAND\, our 5-month- group training program for free! 2 and 3 mile options (or 9 miles for those prepping for Shamrock Half or 15K).
URL:https://yourportlandguide.com/event/shamrock-shakeout-party-and-go-shamrock-group-training/
LOCATION:Foot Traffic Northeast\, 4020 Northeast Fremont Street\, Portland\, OR\, 97212\, United States
END:VEVENT
BEGIN:VEVENT
DTSTART;TZID=America/Los_Angeles:20260124T110000
DTEND;TZID=America/Los_Angeles:20260124T150000
DTSTAMP:20260421T194404
CREATED:20260107T060855Z
LAST-MODIFIED:20260107T060855Z
UID:10000015-1769252400-1769266800@yourportlandguide.com
SUMMARY:Free Kids Event: Storytime Adventures (Lake Oswego)
DESCRIPTION:Make one-of-a-kind crafts and explore hands-on activities! Ages 3+. Children must be accompanied by an adult.
URL:https://yourportlandguide.com/event/free-kids-event-storytime-adventures-lake-oswego-2/
LOCATION:Lakeshore Learning Store\, 16901 Southwest 65th Avenue\, Lake Oswego\, OR\, 97035\, United States
END:VEVENT
BEGIN:VEVENT
DTSTART;TZID=America/Los_Angeles:20260125T190000
DTEND;TZID=America/Los_Angeles:20260125T210000
DTSTAMP:20260421T194404
CREATED:20260107T060746Z
LAST-MODIFIED:20260107T060746Z
UID:10000013-1769367600-1769374800@yourportlandguide.com
SUMMARY:Family Paint Party
DESCRIPTION:Paint Nite — Families and All Ages (10360811)\n\n\nThe Peoples Courts \nThis place isn’t just for Pickle Ball.  Join us for an evening of creativity and fun at The People’s Courts in Portland! Local artist Frances will be leading us in a Paint Nite event where we will unleash our inner artists and create our own masterpieces. This one is a little different\, in that one person paint one bird\, and the other person paint the other bird.   You will each need a ticket so no funny business.  No experience is necessary\, as Frances will guide us step-by-step through the painting process. With a glass of wine in one hand and a paintbrush in the other\, let’s come together and create a one-of-a-kind piece of art. So grab your friends\, bring the kids\, or the entire posse and join us for an afternoon of laughter\, relaxation\, and painting in the lively atmosphere of The People’s Courts. See you there! \n (10360811) \nAge: Teens and up
URL:https://yourportlandguide.com/event/family-paint-party/
LOCATION:The People’s Courts\, 2700 NE 82ND AVE\, PORTLAND\, OR\, 97220\, United States
END:VEVENT
BEGIN:VEVENT
DTSTART;TZID=America/Los_Angeles:20260128T180000
DTEND;TZID=America/Los_Angeles:20260128T200000
DTSTAMP:20260421T194404
CREATED:20260107T052214Z
LAST-MODIFIED:20260107T052214Z
UID:10000009-1769623200-1769630400@yourportlandguide.com
SUMMARY:Witchy Watercolor @ Bad Habit Room
DESCRIPTION:Paint tarot postcards over candlelight and enjoy mini readings by Babetriarch Tarot. This magical night pops up at venues across town.\n\n\n✨ ✨ ✨ \nFull spectrum tarot painting! \nNo matter your experience in watercolor or tarot\, i believe in everyone’s ability to access and express your own internal visions. We will play and learn together. Come in for a magical night of creativity and care. \n✨ \nTicket includes all art supplies and step-by-step instruction for 2 postcard masterpieces. Add a tarot reading for $10 on site. \nOR \nPurchase the Luxe package with tarot reading included. 💫 \n \n🌙 \nJes (allthepronounsplz!) is a full time dreamer whose passion is celebrating the inherent creativity in us all. Lately\, the kids in her life have inspired her to let go and let watercolor. \nSee what she’s up to on Instagram @witchywatercolorsss 👁️ \nBook a private event at witchywatercolor.com 🎨 \n✨ \nKari (they) has been reading Tarot for friends\, family\, and clients for 20 years. As a daily practice\, they use it to set daily intentions and reflect on every day happenings through the Universe’s lens. Kari’s greatest desire is to feel whole\, seen\, and safe while offering the same to those around them. \nYou can see more on IG @babetriarch \n💫
URL:https://yourportlandguide.com/event/witchy-watercolor-bad-habit-room/
LOCATION:Bad Habit Room\, 5433 North Michigan Avenue\, Portland\, OR\, 97217\, United States
END:VEVENT
END:VCALENDAR