BEGIN:VCALENDAR
VERSION:2.0
PRODID:-//Your Portland Oregon Guide! - ECPv6.15.20//NONSGML v1.0//EN
CALSCALE:GREGORIAN
METHOD:PUBLISH
X-WR-CALNAME:Your Portland Oregon Guide!
X-ORIGINAL-URL:https://yourportlandguide.com
X-WR-CALDESC:Events for Your Portland Oregon Guide!
REFRESH-INTERVAL;VALUE=DURATION:PT1H
X-Robots-Tag:noindex
X-PUBLISHED-TTL:PT1H
BEGIN:VTIMEZONE
TZID:America/Los_Angeles
BEGIN:DAYLIGHT
TZOFFSETFROM:-0800
TZOFFSETTO:-0700
TZNAME:PDT
DTSTART:20250309T100000
END:DAYLIGHT
BEGIN:STANDARD
TZOFFSETFROM:-0700
TZOFFSETTO:-0800
TZNAME:PST
DTSTART:20251102T090000
END:STANDARD
BEGIN:DAYLIGHT
TZOFFSETFROM:-0800
TZOFFSETTO:-0700
TZNAME:PDT
DTSTART:20260308T100000
END:DAYLIGHT
BEGIN:STANDARD
TZOFFSETFROM:-0700
TZOFFSETTO:-0800
TZNAME:PST
DTSTART:20261101T090000
END:STANDARD
BEGIN:DAYLIGHT
TZOFFSETFROM:-0800
TZOFFSETTO:-0700
TZNAME:PDT
DTSTART:20270314T100000
END:DAYLIGHT
BEGIN:STANDARD
TZOFFSETFROM:-0700
TZOFFSETTO:-0800
TZNAME:PST
DTSTART:20271107T090000
END:STANDARD
END:VTIMEZONE
BEGIN:VEVENT
DTSTART;TZID=America/Los_Angeles:20260329T130000
DTEND;TZID=America/Los_Angeles:20260329T150000
DTSTAMP:20260422T094502
CREATED:20260220T005824Z
LAST-MODIFIED:20260220T005824Z
UID:10000043-1774789200-1774796400@yourportlandguide.com
SUMMARY:Witchy Watercolor @ Oakshire Beer Hall
DESCRIPTION:Paint tarot postcards over candlelight and enjoy mini readings by Babetriarch Tarot. This magical night pops up at venues across town.\n\n\n✨ ✨ ✨ \nFull spectrum tarot painting! \nNo matter your experience in watercolor or tarot\, i believe in everyone’s ability to access and express your own internal visions. We will play and learn together. Come in for a magical night of creativity and care. \n✨ \nTicket includes all art supplies and step-by-step instruction for 2 postcard masterpieces. Add a tarot reading for $10 on site. \nOR \nPurchase the Luxe package with tarot reading included – this reserves your spot in line. 💫 \n \n🌙 \nJes (allthepronounsplz!) is a full time dreamer whose passion is celebrating the inherent creativity in us all. Lately\, the kids in her life have inspired her to let go and let watercolor. \nSee what she’s up to on Instagram @witchywatercolorsss 👁️ \nBook a private event at witchywatercolor.com 🎨 \n✨ \nKari (they) has been reading Tarot for friends\, family\, and clients for 20 years. As a daily practice\, they use it to set daily intentions and reflect on every day happenings through the Universe’s lens. Kari’s greatest desire is to feel whole\, seen\, and safe while offering the same to those around them. \nYou can see more on IG @babetriarch \n💫
URL:https://yourportlandguide.com/event/witchy-watercolor-oakshire-beer-hall/
LOCATION:Oakshire Beer Hall\, 5013 Northeast 42nd Avenue\, Portland\, OR\, 97218\, United States
END:VEVENT
BEGIN:VEVENT
DTSTART;TZID=America/Los_Angeles:20260329T190000
DTEND;TZID=America/Los_Angeles:20260329T210000
DTSTAMP:20260422T094502
CREATED:20260220T004823Z
LAST-MODIFIED:20260220T004825Z
UID:10000034-1774810800-1774818000@yourportlandguide.com
SUMMARY:Amal El-Mohtar in Conversation With Kelly Sue DeConnick
DESCRIPTION:Join us on March 29th as we welcome Hugo Award-winning author Amal El-Mohtar in conversation with Kelly Sue DeConnick!\n\n\nFull of glimpses into gleaming worlds and fairy tales with teeth\, Seasons of Glass and Iron (Tordotcom) is an enchanting short story collection by Amal El-Mohtar — the bestselling\, award-winning co-author of This Is How You Lose the Time War. With confidence and style\, El-Mohtar guides us through exquisitely told and sharply observed tales about life as it is\, was\, and could be. Like miscellany from other worlds\, these stories are told in letters\, diary entries\, reference materials\, folktales\, and lyrical prose. Full of Nebula\, Locus\, World Fantasy\, and Hugo Award-winning and nominated stories\, Seasons of Glass and Iron includes “Seasons of Glass and Iron\,” “The Green Book\,” “Madeleine\,” “The Lonely Sea in the Sky\,” “And Their Lips Rang with the Sun\,” “The Truth About Owls\,” “A Hollow Play\,” “Anabasis\,” “To Follow the Waves\,” “John Hollowback and the Witch\,” “Florilegia\, or\, Some Lies About Flowers\,” “Pockets\,” and more. El-Mohtar will be joined in conversation by comics writer Kelly Sue DeConnick. \nPlease note: This is a ticketed event. Tickets include admission\, as well as one hardcover copy of Seasons of Glass and Iron. Books distributed at event. \nDisclaimer: If you are not able to make it to the event after the refund period has lapsed\, your book will be held at the venue for 14 days following the event unless you reach out to our Customer Contact Center (help@powells.com). After that time the book is considered abandoned and we will restock the product to our inventory.
URL:https://yourportlandguide.com/event/amal-el-mohtar-in-conversation-with-kelly-sue-deconnick/
LOCATION:Powell’s City of Books\, 1005 West Burnside Street\, Portland\, OR\, 97209\, United States
END:VEVENT
BEGIN:VEVENT
DTSTART;TZID=America/Los_Angeles:20260331T090000
DTEND;TZID=America/Los_Angeles:20260331T160000
DTSTAMP:20260422T094502
CREATED:20260220T010443Z
LAST-MODIFIED:20260220T010444Z
UID:10000061-1774947600-1774972800@yourportlandguide.com
SUMMARY:eXp Realty Portland Regional Rally
DESCRIPTION:Get in the room! Take your real estate business to the next level with collaboration\, recognition\, coaching & to help you think bigger!\n\n\nSTAY UP TO DATE ON THIS EVENT: ➡ http://pdxrally.com/ \nProximity is your greatest competitive advantage. Step into a room of Oregon’s most ambitious practitioners for an intensive day of tactical coaching\, peer recognition\, and strategic collaboration. \nHigh Level Connections\nBuild a referral network that pays dividends long after the closing session ends.Engage with top-tier practitioners who are actively scaling their businesses in the current market. \nMarket Mastery\nAccess the exact scripts and operational systems used by the industry’s most successful leaders. Walk away with tactical strategies you can implement the moment you return to your desk. \nImmersive Culture\nRecharge in an environment built on professional celebration and genuine community.Participate in a curated experience that balances high-level learning with meaningful social interaction. \nUnstoppable Momentum\nGain the clarity needed to transition from the daily grind to long-term strategic growth.Ignite a sustainable drive that fuels your production and leadership for the rest of the year. \n \nEnergizing Speakers\, What’s Working NOW Strategies\, Unmatched Networking! \n👋 Registration Opens: 8am \n🎤 Event: 9am-4pm (lunch included) \n🤝 Afterglow Happy Hour (Appetizers & Cash Bar) 4pm-5pm \n——- \nHOSTS: \n⭐️ Dill Ward\, ICON Agent OR/WA\, Luxury\, Agent Advisory Committee\, Mentor\, Podcast Host \n16 + years\, 500+ homes sold\, Dill Ward ranks among Portland’s top 100 real estate agents. Founder of Agent Inspired at eXp Realty\, Dill empowers agents to develop a personal brand & leverage digital marketing & events to attract perfect clients & an endless referral based business. Dill enhances event experiences by bringing ENERGY\, JOY & FUN to help people connect fast! \n⭐️ Tiana Javier\, WA/OR Agent\, Mentor\, Connector \n——- \nMORE TO BE ANNOUNCED!! ALL AGENTS WELCOME FROM ANY AGENCY \n— LET’S REBUILD & RISE TOGETHER! \n \nSPONSORS: \n💛 GOLD: \n🩶 SILVER: \n🤎 BRONZE: \n• Dill Ward Group — Your Portland Guide \nSponsorship & vendor tables available! email: hello@agentinspired.com \n——- \n#eXpRallyPortland #success #realestate #pdx #businessgrowth #grow #connect \n** If you are an ICON agent\, to ensure accurate event attendance\, as applicable\, use your own name and @exprealty.com or @expcommercial.com email address when registering.
URL:https://yourportlandguide.com/event/exp-realty-portland-regional-rally/
LOCATION:Crowne Plaza Portland-Downtown Conv Ctr\, 1441 Northeast 2nd Avenue\, Portland\, OR\, 97232\, United States
END:VEVENT
BEGIN:VEVENT
DTSTART;TZID=America/Los_Angeles:20260401T190000
DTEND;TZID=America/Los_Angeles:20260401T210000
DTSTAMP:20260422T094502
CREATED:20260220T004826Z
LAST-MODIFIED:20260220T004835Z
UID:10000029-1775070000-1775077200@yourportlandguide.com
SUMMARY:Suzanne Simard in Conversation With Ferris Jabr
DESCRIPTION:Join us on April 1 as we welcome forestry scientist and bestselling author Suzanne Simard!\n\n\nWith her bestselling book Finding the Mother Tree\, forest ecologist Suzanne Simard introduced the world to the profound intelligence and interconnectedness of trees. Now\, with When the Forest Breathes (Knopf)\, she uncovers the ways that nature’s deep-rooted cycles of renewal can ensure the longevity of threatened ecosystems. Raised in a family of loggers committed to sensible forest stewardship\, Simard has watched as timber companies leave forests at higher risk for wildfires\, water crises\, and plant and animal extinction. But her research has the potential to chart a new course. The forest\, she reveals\, is a symphony of finely honed cycles of regeneration — from mushrooms breaking down logs to dying elder trees passing their genetic knowledge to younger ones — that hold the key to protecting our forests. Working closely with local Indigenous communities\, whose models of responsible forestry have been largely dismissed\, Simard examines how human interventions — particularly destruction of the overstory’s mother trees — endanger new growth and longevity. If we can honor the tools that trees have honed for sharing intergenerational wisdom\, she argues\, we can protect these sacred places for many years to come. As she considers how older living things facilitate the conditions for new growth to flourish\, Simard faces parallel rhythms of loss and regeneration in her own life\, watching her two daughters grow into adults and savoring her final days with her ailing mother. Animated by wonder for our forests and the intricate practices of caretaking that have long sustained them\, When the Forest Breathes is a vital reminder of all the natural world has to teach us about adaptability\, resilience\, and community. Simard will be joined in conversation by Ferris Jabr\, author of Becoming Earth: A Journey Through the Hidden Wonders That Bring Our Planet to Life. \nPlease note: This is a ticketed event. Tickets include admission\, as well as one hardcover copy of When the Forest Breathes. Books distributed at event.
URL:https://yourportlandguide.com/event/suzanne-simard-in-conversation-with-ferris-jabr/
LOCATION:Powell’s City of Books\, 1005 West Burnside Street\, Portland\, OR\, 97209\, United States
END:VEVENT
END:VCALENDAR