BEGIN:VCALENDAR
VERSION:2.0
PRODID:-//Your Portland Oregon Guide! - ECPv6.15.20//NONSGML v1.0//EN
CALSCALE:GREGORIAN
METHOD:PUBLISH
X-WR-CALNAME:Your Portland Oregon Guide!
X-ORIGINAL-URL:https://yourportlandguide.com
X-WR-CALDESC:Events for Your Portland Oregon Guide!
REFRESH-INTERVAL;VALUE=DURATION:PT1H
X-Robots-Tag:noindex
X-PUBLISHED-TTL:PT1H
BEGIN:VTIMEZONE
TZID:America/Los_Angeles
BEGIN:DAYLIGHT
TZOFFSETFROM:-0800
TZOFFSETTO:-0700
TZNAME:PDT
DTSTART:20250309T100000
END:DAYLIGHT
BEGIN:STANDARD
TZOFFSETFROM:-0700
TZOFFSETTO:-0800
TZNAME:PST
DTSTART:20251102T090000
END:STANDARD
BEGIN:DAYLIGHT
TZOFFSETFROM:-0800
TZOFFSETTO:-0700
TZNAME:PDT
DTSTART:20260308T100000
END:DAYLIGHT
BEGIN:STANDARD
TZOFFSETFROM:-0700
TZOFFSETTO:-0800
TZNAME:PST
DTSTART:20261101T090000
END:STANDARD
BEGIN:DAYLIGHT
TZOFFSETFROM:-0800
TZOFFSETTO:-0700
TZNAME:PDT
DTSTART:20270314T100000
END:DAYLIGHT
BEGIN:STANDARD
TZOFFSETFROM:-0700
TZOFFSETTO:-0800
TZNAME:PST
DTSTART:20271107T090000
END:STANDARD
END:VTIMEZONE
BEGIN:VEVENT
DTSTART;TZID=America/Los_Angeles:20260520T190000
DTEND;TZID=America/Los_Angeles:20260520T210000
DTSTAMP:20260422T144949
CREATED:20260220T004829Z
LAST-MODIFIED:20260220T004829Z
UID:10000038-1779303600-1779310800@yourportlandguide.com
SUMMARY:Veronica Roth
DESCRIPTION:Join us for a special evening with the bestselling author of the Divergent series!\n\n\nAn epic\, romantic dystopian fantasy begins in Seek the Traitor’s Son (Tor)\, from Veronica Roth\, author of the Divergent series. Elegy Ahn did not ask for destiny to find her. She is happy with her life as a soldier\, defending her small country from the Talusar\, a powerful nation who worships a deadly Fever — a fever that blesses half of its victims with mysterious gifts. But then she’s summoned to hear a prophecy — her and the most ruthless of Talusar generals\, Rava Vidar. Brought face to face\, they learn that one of them will lead their people to victory over the other… but they don’t know which. And at the center of both of their fates: a man. A man whom\, Elegy is told\, she will fall in love with. In just one day\, Elegy’s old life — her job\, her purpose\, and her future — is over. She and Rava are destined to collide\, with the fate of their nations hanging in the balance. And when they do\, only one will be left standing. Elegy intends to make sure it’s her. \nPlease note: This is a ticketed event. Tickets include admission\, as well as one hardcover copy of Seek the Traitor’s Son. Books distributed at event. \nDisclaimer: If you are not able to make it to the event after the refund period has lapsed\, your book will be held at the venue for 14 days following the event unless you reach out to our Customer Contact Center (help@powells.com). After that time the book is considered abandoned and we will restock the product to our inventory.
URL:https://yourportlandguide.com/event/veronica-roth/
LOCATION:Powell’s Books at Cedar Hills Crossing\, 3415 Southwest Cedar Hills Boulevard\, Beaverton\, OR\, 97005\, United States
END:VEVENT
BEGIN:VEVENT
DTSTART;TZID=America/Los_Angeles:20260610T190000
DTEND;TZID=America/Los_Angeles:20260610T210000
DTSTAMP:20260422T144949
CREATED:20260220T004832Z
LAST-MODIFIED:20260220T004832Z
UID:10000039-1781118000-1781125200@yourportlandguide.com
SUMMARY:Brooke Averick
DESCRIPTION:Join us on June 10th for a moderated conversation and audience Q&A with Brooke!\n\n\nJoin Powell’s Books and Brooke Averick to celebrate the publication of Phoebe Berman’s Gonna Lose It. Your ticket to the event guarantees a copy of Brooke’s debut novel and a signed\, Phoebe Berman cherry-designed bookplate. This is Brooke’s first ever tour so be ready for an amazing time! \nPlease note: This is a ticketed event. Tickets include admission\, as well as one hardcover copy of Phoebe Berman’s Gonna Lose It. Books distributed at event.
URL:https://yourportlandguide.com/event/brooke-averick/
LOCATION:Powell’s City of Books\, 1005 West Burnside Street\, Portland\, OR\, 97209\, United States
END:VEVENT
BEGIN:VEVENT
DTSTART;TZID=America/Los_Angeles:20260620T130000
DTEND;TZID=America/Los_Angeles:20260620T170000
DTSTAMP:20260422T144949
CREATED:20260107T060702Z
LAST-MODIFIED:20260107T060702Z
UID:10000012-1781960400-1781974800@yourportlandguide.com
SUMMARY:Girls in Business Camp Portland 2026
DESCRIPTION:The Girls in Business Camp Portland 2026 introduces girls to business and entrepreneurship.\n\n\nThe Girls in Business Camp Portland 2026 introduces girls to basic business principles including the forms and types of businesses\, business strategy\, marketing and finance. Each student will be guided through creating her own business and completing the activities below. \nName her business \nCreate a mission statement \nCreate a logo \nCreate a slogan or tagline \nDesign a business card \nCreate a marketing plan \nCreate a finance plan including a budget \nCreate a pitch for investors \nAfter students create their businesses\, each student CEO will pitch a group of mock investors (fellow students) for the funding to launch her start-up. Participating Girl Guides meet the qualification to earn a business owner\, business plan badge or an entrepreneur badge. Badges are not provided. Ticketing options for ages 8-11 and ages 12-17. \nFor additional information contact us at +1 866-277-2123 extension 2\, via email at info@girlsinbusinessinitiative.com or visit our website at www.girlsinbusinessinitiative.com. Please no solicitation emails or calls. We do not book speakers\, book vendors or recruit volunteers for events. \nFrequently Asked Questions \nIs this event a drop-off? All camps are drop-off unless parent participation is indicated. Parents may wait at the venue for the duration of the camp in any of the lounge or seating area throughout the hotel. The meeting room space capacity can only accommodate students and staff. \nIs the registration fee refundable? The registration fee is non-refundable unless the organizer cancels the session. If a participant is unable to attend a session a credit will be placed on file that may be used at any time for a future program. The credit does not expire. \nIs financial assistance available? Due to rising costs associated with hosting events\, there is no financial assistance available for this event and there is no promo code for this event. \nAll instructors and support staff undergo background screening. All instructors and support staff are also in compliance with any local ordinances or state/provincial regulations applicable to those working with children. Our Lead Instructors are women that currently or have previously worked in business/executive management.
URL:https://yourportlandguide.com/event/girls-in-business-camp-portland-2026/
LOCATION:550 SW Oak St\, 550 Southwest Oak Street\, Portland\, OR\, 97204\, United States
END:VEVENT
BEGIN:VEVENT
DTSTART;TZID=America/Los_Angeles:20260905T080000
DTEND;TZID=America/Los_Angeles:20260905T110000
DTSTAMP:20260422T144949
CREATED:20260220T010859Z
LAST-MODIFIED:20260220T010859Z
UID:10000072-1788595200-1788606000@yourportlandguide.com
SUMMARY:Columbia River Cross Channel Swim 2026
DESCRIPTION:Swim across the Columbia River with us in 82nd annual Cross Channel Swim!\n\n\nJoin us on the banks of the Columbia River this Labor Day weekend for an exhilarating open-water swim. \nSwimmers board the famous Sternwheeler paddleboat on the south shore of the Columbia River\, at the dock in Cascade Locks\, and are ferried to the Washington side of the river. When signaled\, swimmers jump off the Sternwheeler into the Columbia and swim an approximately 1.1-mile stretch across to Cascade Locks. To help them find their way\, a special swim lane lined with volunteers in sailboats\, kayaks\, and paddle boards are there to guide\, encourage\, and protect swimmers as they cross the channel. \n \nAges 10 & up may participateAges 10-14 must be accompanied by a parent or guardian \nCheck in: 6:00-7:15am | Boat begins loading at 7:15am.8am start time. \n \nSafety equipment:All swimmers are required to swim with a tow buoy. Brightly colored swim caps are required\, however we are no longer providing branded caps as part of registration. Wetsuits are optional. \n \nMerchandise & Add Ons: Registration includes participation only. Patches\, shirts\, and other merch will be available through our merch store later this year. \n \nJoin fellow swimmers as you navigate the currents and conquer the channel – grab your goggles\, swim cap\, and get ready to make a splash at the Columbia River Cross Channel Swim!
URL:https://yourportlandguide.com/event/columbia-river-cross-channel-swim-2026-2/
LOCATION:299 SW Portage Rd\, 299 Southwest Portage Road\, Cascade Locks\, OR\, 97014\, United States
END:VEVENT
BEGIN:VEVENT
DTSTART;TZID=America/Los_Angeles:20260905T080000
DTEND;TZID=America/Los_Angeles:20260905T110000
DTSTAMP:20260422T144949
CREATED:20260220T010859Z
LAST-MODIFIED:20260220T010859Z
UID:10000073-1788595200-1788606000@yourportlandguide.com
SUMMARY:Columbia River Cross Channel Swim 2026
DESCRIPTION:Swim across the Columbia River with us in 82nd annual Cross Channel Swim!\n\n\nJoin us on the banks of the Columbia River this Labor Day weekend for an exhilarating open-water swim. \nSwimmers board the famous Sternwheeler paddleboat on the south shore of the Columbia River\, at the dock in Cascade Locks\, and are ferried to the Washington side of the river. When signaled\, swimmers jump off the Sternwheeler into the Columbia and swim an approximately 1.1-mile stretch across to Cascade Locks. To help them find their way\, a special swim lane lined with volunteers in sailboats\, kayaks\, and paddle boards are there to guide\, encourage\, and protect swimmers as they cross the channel. \n \nAges 10 & up may participateAges 10-14 must be accompanied by a parent or guardian \nCheck in: 6:00-7:15am | Boat begins loading at 7:15am.8am start time. \n \nSafety equipment:All swimmers are required to swim with a tow buoy. Brightly colored swim caps are required\, however we are no longer providing branded caps as part of registration. Wetsuits are optional. \n \nMerchandise & Add Ons: Registration includes participation only. Patches\, shirts\, and other merch will be available through our merch store later this year. \n \nJoin fellow swimmers as you navigate the currents and conquer the channel – grab your goggles\, swim cap\, and get ready to make a splash at the Columbia River Cross Channel Swim!
URL:https://yourportlandguide.com/event/columbia-river-cross-channel-swim-2026/
LOCATION:299 SW Portage Rd\, 299 Southwest Portage Road\, Cascade Locks\, OR\, 97014\, United States
END:VEVENT
BEGIN:VEVENT
DTSTART;TZID=America/Los_Angeles:20261009T130000
DTEND;TZID=America/Los_Angeles:20261011T170000
DTSTAMP:20260422T144949
CREATED:20260220T010902Z
LAST-MODIFIED:20260220T010902Z
UID:10000074-1791550800-1791738000@yourportlandguide.com
SUMMARY:Hood River Harvest Fest | Art Vendor Jury
DESCRIPTION:Jury applications are due April 30\, 2026. Selection for Harvest Fest will be announced May 15th.\n\n\nHood River Harvest Fest returns Oct 9-11! This is the fee payment for the jury selection process only. \nApplications are due by April 30. All vendors will be notified of the results on May 15. Accepted vendors will have 30 days to register before we release their spot to vendors on the waiting list. \nPlease carefully read our Jury Information page before applying to ensure your goods meet the jury’s qualifications. We accept only handmade goods\, art\, and foods in the “Artist Marketplace” tent. \nPlease also see our Vendor Information page for more info about preparation and event days. \nAfter submitting your jury fee\, fill out the vendor application here: Vendor Application
URL:https://yourportlandguide.com/event/hood-river-harvest-fest-art-vendor-jury-2/
LOCATION:Hood River Event Site\, Portway Avenue\, Hood River\, OR\, 97031\, United States
END:VEVENT
BEGIN:VEVENT
DTSTART;TZID=America/Los_Angeles:20261009T130000
DTEND;TZID=America/Los_Angeles:20261011T170000
DTSTAMP:20260422T144949
CREATED:20260220T010902Z
LAST-MODIFIED:20260220T010902Z
UID:10000075-1791550800-1791738000@yourportlandguide.com
SUMMARY:Hood River Harvest Fest | Art Vendor Jury
DESCRIPTION:Jury applications are due April 30\, 2026. Selection for Harvest Fest will be announced May 15th.\n\n\nHood River Harvest Fest returns Oct 9-11! This is the fee payment for the jury selection process only. \nApplications are due by April 30. All vendors will be notified of the results on May 15. Accepted vendors will have 30 days to register before we release their spot to vendors on the waiting list. \nPlease carefully read our Jury Information page before applying to ensure your goods meet the jury’s qualifications. We accept only handmade goods\, art\, and foods in the “Artist Marketplace” tent. \nPlease also see our Vendor Information page for more info about preparation and event days. \nAfter submitting your jury fee\, fill out the vendor application here: Vendor Application
URL:https://yourportlandguide.com/event/hood-river-harvest-fest-art-vendor-jury/
LOCATION:Hood River Event Site\, Portway Avenue\, Hood River\, OR\, 97031\, United States
END:VEVENT
END:VCALENDAR