BEGIN:VCALENDAR
VERSION:2.0
PRODID:-//Your Portland Oregon Guide! - ECPv6.15.20//NONSGML v1.0//EN
CALSCALE:GREGORIAN
METHOD:PUBLISH
X-WR-CALNAME:Your Portland Oregon Guide!
X-ORIGINAL-URL:https://yourportlandguide.com
X-WR-CALDESC:Events for Your Portland Oregon Guide!
REFRESH-INTERVAL;VALUE=DURATION:PT1H
X-Robots-Tag:noindex
X-PUBLISHED-TTL:PT1H
BEGIN:VTIMEZONE
TZID:America/Los_Angeles
BEGIN:DAYLIGHT
TZOFFSETFROM:-0800
TZOFFSETTO:-0700
TZNAME:PDT
DTSTART:20250309T100000
END:DAYLIGHT
BEGIN:STANDARD
TZOFFSETFROM:-0700
TZOFFSETTO:-0800
TZNAME:PST
DTSTART:20251102T090000
END:STANDARD
BEGIN:DAYLIGHT
TZOFFSETFROM:-0800
TZOFFSETTO:-0700
TZNAME:PDT
DTSTART:20260308T100000
END:DAYLIGHT
BEGIN:STANDARD
TZOFFSETFROM:-0700
TZOFFSETTO:-0800
TZNAME:PST
DTSTART:20261101T090000
END:STANDARD
BEGIN:DAYLIGHT
TZOFFSETFROM:-0800
TZOFFSETTO:-0700
TZNAME:PDT
DTSTART:20270314T100000
END:DAYLIGHT
BEGIN:STANDARD
TZOFFSETFROM:-0700
TZOFFSETTO:-0800
TZNAME:PST
DTSTART:20271107T090000
END:STANDARD
END:VTIMEZONE
BEGIN:VEVENT
DTSTART;TZID=America/Los_Angeles:20260411T173000
DTEND;TZID=America/Los_Angeles:20260411T190000
DTSTAMP:20260421T160501
CREATED:20260220T004420Z
LAST-MODIFIED:20260220T004421Z
UID:10000021-1775928600-1775934000@yourportlandguide.com
SUMMARY:Witchy Collage Night: Planting Seeds
DESCRIPTION:Join us for Seagrape’s monthly collage night! This month\, we’ll craft a mood board exploring what seeds you’re planting & nurturing.\n\n\nJoin us for a monthly in-person Witchy Collage Night at Seagrape Apothecary! Dive into the realm of magic\, spells\, and self-care with like-minded babes in a cozy and welcoming atmosphere. We’ll connect\, collage and make new friends. \nThis month\, we’ll craft a mood board exploring what seeds you’re planting & nurturing this season. \nDate: Saturday\, April 11thTime: 5:30 – 7:00 PMLocation: Seagrape Apothecary\, 2823 NE Sandy Blvd. Portland\, OR 97232 \nThere will be tea to support your nervous system and a soft landing spot to share whatever is in your heart right now. Collage supplies will be provided but bring your own and some to share if you can (especially scissors\, washi tape + stickers) and come bask in the magic of community ♥️ If you have heart medicine or any other mutual aid to share please bring that as well. Snacks are always welcome! \n \nWhat you can expect at this gathering: \n\nTo craft a seasonal vision board (so bring your ideas!)\nTo mingle with fellow magical babes in a super sweet and casual environment\nPlease bring collage supplies you’d be willing to share! We’ll have some extra supplies\, but we always welcome more scissors\, glue\, and new magazines!\n\n \nJoin us on the second Saturday of each month as we come together to celebrate our magic through creativity and community. Space is limited! \n——————————————— \nNOTES: \n\nPlease bring a mask with you! You will be asked to wear your mask throughout class. If you’re experiencing any COVID symptoms prior to the gathering\, please do not attend the gathering.\nEnrollment is accepted up until the day of the event\, while spots are available.\nAttendees will be signed up for our newsletter\, full of free and juicy content every month. For more free offerings\, check out the Seagrape blog!\n\nSeagrape Apothecary Cancellation Policy: \nAll tickets are nonrefundable. \nIf Seagrape Apothecary reschedules a workshop or class and an attendee cannot attend the rescheduled workshop or class\, a class credit for the ticket value will be issued and will be valid for 1 year from the date of cancellation. \nIf Seagrape Apothecary cancels a workshop or class\, attendees will get the choice between class credit or a Seagrape Apothecary gift card. If class credit is chosen\, a credit for the ticket value will be issued and will be valid for 1 year from the date of cancellation. If the gift card is chosen\, a digital gift card worth the ticket value will be shared via email and valid for 1 year from the date of cancellation. \nCOVID Exceptions: If an attendee tests positive for COVID and reaches out prior to an in-person class to let us know\, a class credit for the ticket value will be issued and will be valid for 1 year. \nQuestions? Email us at events@seagrapeapothecary.com
URL:https://yourportlandguide.com/event/witchy-collage-night-planting-seeds/
LOCATION:Seagrape Apothecary\, 2823 Northeast Sandy Boulevard\, Portland\, OR\, 97232\, United States
END:VEVENT
END:VCALENDAR