BEGIN:VCALENDAR
VERSION:2.0
PRODID:-//Your Portland Oregon Guide! - ECPv6.15.20//NONSGML v1.0//EN
CALSCALE:GREGORIAN
METHOD:PUBLISH
X-WR-CALNAME:Your Portland Oregon Guide!
X-ORIGINAL-URL:https://yourportlandguide.com
X-WR-CALDESC:Events for Your Portland Oregon Guide!
REFRESH-INTERVAL;VALUE=DURATION:PT1H
X-Robots-Tag:noindex
X-PUBLISHED-TTL:PT1H
BEGIN:VTIMEZONE
TZID:America/Los_Angeles
BEGIN:DAYLIGHT
TZOFFSETFROM:-0800
TZOFFSETTO:-0700
TZNAME:PDT
DTSTART:20250309T100000
END:DAYLIGHT
BEGIN:STANDARD
TZOFFSETFROM:-0700
TZOFFSETTO:-0800
TZNAME:PST
DTSTART:20251102T090000
END:STANDARD
BEGIN:DAYLIGHT
TZOFFSETFROM:-0800
TZOFFSETTO:-0700
TZNAME:PDT
DTSTART:20260308T100000
END:DAYLIGHT
BEGIN:STANDARD
TZOFFSETFROM:-0700
TZOFFSETTO:-0800
TZNAME:PST
DTSTART:20261101T090000
END:STANDARD
BEGIN:DAYLIGHT
TZOFFSETFROM:-0800
TZOFFSETTO:-0700
TZNAME:PDT
DTSTART:20270314T100000
END:DAYLIGHT
BEGIN:STANDARD
TZOFFSETFROM:-0700
TZOFFSETTO:-0800
TZNAME:PST
DTSTART:20271107T090000
END:STANDARD
END:VTIMEZONE
BEGIN:VEVENT
DTSTART;TZID=America/Los_Angeles:20260325T180000
DTEND;TZID=America/Los_Angeles:20260325T200000
DTSTAMP:20260421T173835
CREATED:20260220T005821Z
LAST-MODIFIED:20260220T005821Z
UID:10000041-1774461600-1774468800@yourportlandguide.com
SUMMARY:Witchy Watercolor @ Wayfinder
DESCRIPTION:Paint tarot postcards over candlelight and enjoy mini readings by Babetriarch Tarot. This magical night pops up at venues across town.\n\n\n✨ ✨ ✨ \nFull spectrum tarot painting! \nNo matter your experience in watercolor or tarot\, i believe in everyone’s ability to access and express your own internal visions. We will play and learn together. Come in for a magical night of creativity and care. \n✨ \nTicket includes all art supplies and step-by-step instruction for 2 postcard masterpieces. Add a tarot reading for $10 on site. \nOR \nPurchase the Luxe package with tarot reading included. 💫 \n \n \n🌙 \nJes (allthepronounsplz!) is a full time dreamer whose passion is celebrating the inherent creativity in us all. Lately\, the kids in her life have inspired her to let go and let watercolor. \nSee what she’s up to on Instagram @witchywatercolorsss 👁️ \nBook a private event at witchywatercolor.com 🎨 \n✨ \nKari (they) has been reading Tarot for friends\, family\, and clients for 20 years. As a daily practice\, they use it to set daily intentions and reflect on every day happenings through the Universe’s lens. Kari’s greatest desire is to feel whole\, seen\, and safe while offering the same to those around them. \nYou can see more on IG @babetriarch \n💫 \nWayfinder Beer \n“We would love to raise a pint with you on our glorious elevated deck or our spacious taproom\, both of which are chocked-full of mouthwatering bites and mind altering beverages. Prost!” \nwww.wayfinder.beer \n304 SE 2nd Ave\, Portland
URL:https://yourportlandguide.com/event/witchy-watercolor-wayfinder/
LOCATION:Wayfinder Beer\, 304 Southeast 2nd Avenue\, Portland\, OR\, 97214\, United States
END:VEVENT
BEGIN:VEVENT
DTSTART;TZID=America/Los_Angeles:20260325T180000
DTEND;TZID=America/Los_Angeles:20260325T200000
DTSTAMP:20260421T173835
CREATED:20260220T005821Z
LAST-MODIFIED:20260220T005821Z
UID:10000046-1774461600-1774468800@yourportlandguide.com
SUMMARY:Witchy Watercolor @ Wayfinder
DESCRIPTION:Paint tarot postcards over candlelight and enjoy mini readings by Babetriarch Tarot. This magical night pops up at venues across town.\n\n\n✨ ✨ ✨ \nFull spectrum tarot painting! \nNo matter your experience in watercolor or tarot\, i believe in everyone’s ability to access and express your own internal visions. We will play and learn together. Come in for a magical night of creativity and care. \n✨ \nTicket includes all art supplies and step-by-step instruction for 2 postcard masterpieces. Add a tarot reading for $10 on site. \nOR \nPurchase the Luxe package with tarot reading included. 💫 \n \n \n🌙 \nJes (allthepronounsplz!) is a full time dreamer whose passion is celebrating the inherent creativity in us all. Lately\, the kids in her life have inspired her to let go and let watercolor. \nSee what she’s up to on Instagram @witchywatercolorsss 👁️ \nBook a private event at witchywatercolor.com 🎨 \n✨ \nKari (they) has been reading Tarot for friends\, family\, and clients for 20 years. As a daily practice\, they use it to set daily intentions and reflect on every day happenings through the Universe’s lens. Kari’s greatest desire is to feel whole\, seen\, and safe while offering the same to those around them. \nYou can see more on IG @babetriarch \n💫 \nWayfinder Beer \n“We would love to raise a pint with you on our glorious elevated deck or our spacious taproom\, both of which are chocked-full of mouthwatering bites and mind altering beverages. Prost!” \nwww.wayfinder.beer \n304 SE 2nd Ave\, Portland
URL:https://yourportlandguide.com/event/witchy-watercolor-wayfinder-2/
LOCATION:Wayfinder Beer\, 304 Southeast 2nd Avenue\, Portland\, OR\, 97214\, United States
END:VEVENT
BEGIN:VEVENT
DTSTART;TZID=America/Los_Angeles:20260325T190000
DTEND;TZID=America/Los_Angeles:20260325T210000
DTSTAMP:20260421T173835
CREATED:20260220T004823Z
LAST-MODIFIED:20260220T004835Z
UID:10000028-1774465200-1774472400@yourportlandguide.com
SUMMARY:Dr. Jennifer Lincoln in Conversation With Dr. Mary Fariba Afsari
DESCRIPTION:Join us for a special event with Dr. Jennifer Lincoln & Dr. Mary Fariba Afsari!\n\n\nBirth is a transformative\, remarkable process\, but it can also be incredibly daunting and traumatic — especially if you don’t have the medically sound information you need to advocate for yourself. With misinformation rampant on social media and a dearth of trusted medical resources on the birth process\, pregnant people feel left behind in a system that is failing them. Thirty-six percent of counties in America are labeled “maternity care deserts\,” where there is no or limited access to obstetric care — and it’s only getting worse. We need a concise and comprehensive primer on the birth experience\, whether that means a low-intervention birth or a complicated emergency C-section. In The Birth Book (Rodale)\, OB-GYN hospitalist and educator Dr. Jennifer Lincoln — author of Let’s Talk About Down There — delivers exactly that. Dr. Lincoln answers all your questions\, big and small\, about labor and delivery\, providing crucial insight and understanding. Questions like: What is “normal” labor? What can I say no to? What are my options if baby is breech? How long does an induction take? And many\, many more. Backed by research and personal experience and including enlightening illustrations\, The Birth Book gives you agency over your pregnancy and birth\, along with context for the many choices you’ll need to make. With Dr. Lincoln’s help\, readers will have an evidence-based resource at their fingertips for a better\, safer\, more informed birth. Dr. Lincoln will be joined in conversation by Dr. Mary Fariba Afsari\, board-certified OB/GYN and author of the forthcoming new book\, Labor: One Woman’s Work. \nPlease note: This is a ticketed event. Tickets include admission\, as well as one paperback copy of The Birth Book. Books distributed at event. \nDisclaimer: If you are not able to make it to the event after the refund period has lapsed\, your book will be held at the venue for 14 days following the event unless you reach out to our Customer Contact Center (help@powells.com). After that time the book is considered abandoned and we will restock the product to our inventory.
URL:https://yourportlandguide.com/event/dr-jennifer-lincoln-in-conversation-with-dr-mary-fariba-afsari/
LOCATION:Powell’s City of Books\, 1005 West Burnside Street\, Portland\, OR\, 97209\, United States
END:VEVENT
END:VCALENDAR