BEGIN:VCALENDAR
VERSION:2.0
PRODID:-//Your Portland Oregon Guide! - ECPv6.15.20//NONSGML v1.0//EN
CALSCALE:GREGORIAN
METHOD:PUBLISH
X-WR-CALNAME:Your Portland Oregon Guide!
X-ORIGINAL-URL:https://yourportlandguide.com
X-WR-CALDESC:Events for Your Portland Oregon Guide!
REFRESH-INTERVAL;VALUE=DURATION:PT1H
X-Robots-Tag:noindex
X-PUBLISHED-TTL:PT1H
BEGIN:VTIMEZONE
TZID:America/Los_Angeles
BEGIN:DAYLIGHT
TZOFFSETFROM:-0800
TZOFFSETTO:-0700
TZNAME:PDT
DTSTART:20250309T100000
END:DAYLIGHT
BEGIN:STANDARD
TZOFFSETFROM:-0700
TZOFFSETTO:-0800
TZNAME:PST
DTSTART:20251102T090000
END:STANDARD
BEGIN:DAYLIGHT
TZOFFSETFROM:-0800
TZOFFSETTO:-0700
TZNAME:PDT
DTSTART:20260308T100000
END:DAYLIGHT
BEGIN:STANDARD
TZOFFSETFROM:-0700
TZOFFSETTO:-0800
TZNAME:PST
DTSTART:20261101T090000
END:STANDARD
BEGIN:DAYLIGHT
TZOFFSETFROM:-0800
TZOFFSETTO:-0700
TZNAME:PDT
DTSTART:20270314T100000
END:DAYLIGHT
BEGIN:STANDARD
TZOFFSETFROM:-0700
TZOFFSETTO:-0800
TZNAME:PST
DTSTART:20271107T090000
END:STANDARD
END:VTIMEZONE
BEGIN:VEVENT
DTSTART;TZID=America/Los_Angeles:20260324T190000
DTEND;TZID=America/Los_Angeles:20260324T210000
DTSTAMP:20260421T173835
CREATED:20260220T004821Z
LAST-MODIFIED:20260220T004821Z
UID:10000027-1774378800-1774386000@yourportlandguide.com
SUMMARY:Tayari Jones in Conversation With Kiley Reid
DESCRIPTION:Join us on March 24th as we welcome An American Marriage author Tayari Jones!\n\n\nTayari Jones — bestselling\, award-winning author of An American Marriage — has written an unforgettable new novel that sparkles with wit and intelligence and deep feeling about two lifelong friends whose worlds converge after many years apart in the face of a devastating tragedy. Vernice and Annie\, two motherless daughters raised in Honeysuckle\, Louisiana\, have been best friends and neighbors since earliest childhood but are fated to live starkly different lives. Raised by a fierce aunt determined to give her a stable home in the wake of her mother’s death\, Vernice leaves Honeysuckle at eighteen for Spelman College\, where she joins a sisterhood of powerfully connected Black women and discovers a world of affluence\, manners\, aspiration\, and inequality. Annie\, abandoned by her mother as a child and fixated on the idea of finding her and filling the bottomless hole left by her absence\, sets off on a journey that will take her into a world of peril and adversity\, as well as love and adventure\, culminating in a battle for her life. A novel about mothers and daughters\, friendship and sisterhood\, and the complexities of being a woman in the American South\, Kin (Knopf) is an exuberant\, emotionally rich\, unforgettable work from one of the brightest and most irresistible voices in contemporary fiction. Jones will be joined in conversation by Kiley Reid\, author of Such a Fun Age. \nPlease note: This is a ticketed event. Tickets include admission\, as well as one hardcover copy of Kin. Books distributed at event. \nDisclaimer: If you are not able to make it to the event after the refund period has lapsed\, your book will be held at the venue for 14 days following the event unless you reach out to our Customer Contact Center (help@powells.com). After that time the book is considered abandoned and we will restock the product to our inventory.
URL:https://yourportlandguide.com/event/tayari-jones-in-conversation-with-kiley-reid-2/
LOCATION:Powell’s City of Books\, 1005 West Burnside Street\, Portland\, OR\, 97209\, United States
END:VEVENT
BEGIN:VEVENT
DTSTART;TZID=America/Los_Angeles:20260324T190000
DTEND;TZID=America/Los_Angeles:20260324T210000
DTSTAMP:20260421T173835
CREATED:20260220T004821Z
LAST-MODIFIED:20260220T004821Z
UID:10000033-1774378800-1774386000@yourportlandguide.com
SUMMARY:Tayari Jones in Conversation With Kiley Reid
DESCRIPTION:Join us on March 24th as we welcome An American Marriage author Tayari Jones!\n\n\nTayari Jones — bestselling\, award-winning author of An American Marriage — has written an unforgettable new novel that sparkles with wit and intelligence and deep feeling about two lifelong friends whose worlds converge after many years apart in the face of a devastating tragedy. Vernice and Annie\, two motherless daughters raised in Honeysuckle\, Louisiana\, have been best friends and neighbors since earliest childhood but are fated to live starkly different lives. Raised by a fierce aunt determined to give her a stable home in the wake of her mother’s death\, Vernice leaves Honeysuckle at eighteen for Spelman College\, where she joins a sisterhood of powerfully connected Black women and discovers a world of affluence\, manners\, aspiration\, and inequality. Annie\, abandoned by her mother as a child and fixated on the idea of finding her and filling the bottomless hole left by her absence\, sets off on a journey that will take her into a world of peril and adversity\, as well as love and adventure\, culminating in a battle for her life. A novel about mothers and daughters\, friendship and sisterhood\, and the complexities of being a woman in the American South\, Kin (Knopf) is an exuberant\, emotionally rich\, unforgettable work from one of the brightest and most irresistible voices in contemporary fiction. Jones will be joined in conversation by Kiley Reid\, author of Such a Fun Age. \nPlease note: This is a ticketed event. Tickets include admission\, as well as one hardcover copy of Kin. Books distributed at event. \nDisclaimer: If you are not able to make it to the event after the refund period has lapsed\, your book will be held at the venue for 14 days following the event unless you reach out to our Customer Contact Center (help@powells.com). After that time the book is considered abandoned and we will restock the product to our inventory.
URL:https://yourportlandguide.com/event/tayari-jones-in-conversation-with-kiley-reid/
LOCATION:Powell’s City of Books\, 1005 West Burnside Street\, Portland\, OR\, 97209\, United States
END:VEVENT
END:VCALENDAR