BEGIN:VCALENDAR
VERSION:2.0
PRODID:-//Your Portland Oregon Guide! - ECPv6.15.20//NONSGML v1.0//EN
CALSCALE:GREGORIAN
METHOD:PUBLISH
X-WR-CALNAME:Your Portland Oregon Guide!
X-ORIGINAL-URL:https://yourportlandguide.com
X-WR-CALDESC:Events for Your Portland Oregon Guide!
REFRESH-INTERVAL;VALUE=DURATION:PT1H
X-Robots-Tag:noindex
X-PUBLISHED-TTL:PT1H
BEGIN:VTIMEZONE
TZID:America/Los_Angeles
BEGIN:DAYLIGHT
TZOFFSETFROM:-0800
TZOFFSETTO:-0700
TZNAME:PDT
DTSTART:20250309T100000
END:DAYLIGHT
BEGIN:STANDARD
TZOFFSETFROM:-0700
TZOFFSETTO:-0800
TZNAME:PST
DTSTART:20251102T090000
END:STANDARD
BEGIN:DAYLIGHT
TZOFFSETFROM:-0800
TZOFFSETTO:-0700
TZNAME:PDT
DTSTART:20260308T100000
END:DAYLIGHT
BEGIN:STANDARD
TZOFFSETFROM:-0700
TZOFFSETTO:-0800
TZNAME:PST
DTSTART:20261101T090000
END:STANDARD
BEGIN:DAYLIGHT
TZOFFSETFROM:-0800
TZOFFSETTO:-0700
TZNAME:PDT
DTSTART:20270314T100000
END:DAYLIGHT
BEGIN:STANDARD
TZOFFSETFROM:-0700
TZOFFSETTO:-0800
TZNAME:PST
DTSTART:20271107T090000
END:STANDARD
END:VTIMEZONE
BEGIN:VEVENT
DTSTART;TZID=America/Los_Angeles:20260320T180000
DTEND;TZID=America/Los_Angeles:20260320T200000
DTSTAMP:20260421T173851
CREATED:20260220T004819Z
LAST-MODIFIED:20260220T004819Z
UID:10000026-1774029600-1774036800@yourportlandguide.com
SUMMARY:Felicia Day
DESCRIPTION:Join us on March 20 as we welcome Felicia Day back to Powell’s!\n\n\nFelicia Day\, actress and bestselling author of the “engaging and often hilarious” (USA TODAY) You’re Never Weird on the Internet (Almost)\, returns with a feminist graphic novel about the lost mythical character of Philonoe. Helen of Troy. Clytemnestra. Timandra. Three sisters\, infamously cursed by the goddess Aphrodite to betray their husbands\, are known the world over. But few know about the fourth sister: Philonoe. Lost to historical record\, all we know from ancient texts is that she avoided the curse placed on her family and was granted immortality by the goddess Artemis. But why and how did this happen? Now\, Day is determined to bring Philonoe to vivid life and fill in the missing pieces with this graphic novel retelling. Her story is a traditional hero’s journey with a feminist twist. Born as both a Spartan princess and with a wine-stain birthmark on her face\, Philonoe is destined for a different fate than her sisters. Her remarkable but overlooked life is finally revealed in The Lost Daughter of Sparta (Gallery Books)\, a clever and engaging graphic novel that is perfect for fans of The Palace of Eros and Lore Olympus.  \nPlease note: This is a ticketed event. Tickets include admission\, as well as one hardcover copy of The Lost Daughter of Sparta. Books distributed at event. \nDisclaimer: If you are not able to make it to the event after the refund period has lapsed\, your book will be held at the venue for 14 days following the event unless you reach out to our Customer Contact Center (help@powells.com). After that time the book is considered abandoned and we will restock the product to our inventory.
URL:https://yourportlandguide.com/event/felicia-day-2/
LOCATION:Powell’s Books at Cedar Hills Crossing\, 3415 Southwest Cedar Hills Boulevard\, Beaverton\, OR\, 97005\, United States
END:VEVENT
BEGIN:VEVENT
DTSTART;TZID=America/Los_Angeles:20260320T180000
DTEND;TZID=America/Los_Angeles:20260320T200000
DTSTAMP:20260421T173851
CREATED:20260220T004819Z
LAST-MODIFIED:20260220T004819Z
UID:10000032-1774029600-1774036800@yourportlandguide.com
SUMMARY:Felicia Day
DESCRIPTION:Join us on March 20 as we welcome Felicia Day back to Powell’s!\n\n\nFelicia Day\, actress and bestselling author of the “engaging and often hilarious” (USA TODAY) You’re Never Weird on the Internet (Almost)\, returns with a feminist graphic novel about the lost mythical character of Philonoe. Helen of Troy. Clytemnestra. Timandra. Three sisters\, infamously cursed by the goddess Aphrodite to betray their husbands\, are known the world over. But few know about the fourth sister: Philonoe. Lost to historical record\, all we know from ancient texts is that she avoided the curse placed on her family and was granted immortality by the goddess Artemis. But why and how did this happen? Now\, Day is determined to bring Philonoe to vivid life and fill in the missing pieces with this graphic novel retelling. Her story is a traditional hero’s journey with a feminist twist. Born as both a Spartan princess and with a wine-stain birthmark on her face\, Philonoe is destined for a different fate than her sisters. Her remarkable but overlooked life is finally revealed in The Lost Daughter of Sparta (Gallery Books)\, a clever and engaging graphic novel that is perfect for fans of The Palace of Eros and Lore Olympus.  \nPlease note: This is a ticketed event. Tickets include admission\, as well as one hardcover copy of The Lost Daughter of Sparta. Books distributed at event. \nDisclaimer: If you are not able to make it to the event after the refund period has lapsed\, your book will be held at the venue for 14 days following the event unless you reach out to our Customer Contact Center (help@powells.com). After that time the book is considered abandoned and we will restock the product to our inventory.
URL:https://yourportlandguide.com/event/felicia-day/
LOCATION:Powell’s Books at Cedar Hills Crossing\, 3415 Southwest Cedar Hills Boulevard\, Beaverton\, OR\, 97005\, United States
END:VEVENT
END:VCALENDAR