BEGIN:VCALENDAR
VERSION:2.0
PRODID:-//Your Portland Oregon Guide! - ECPv6.15.20//NONSGML v1.0//EN
CALSCALE:GREGORIAN
METHOD:PUBLISH
X-ORIGINAL-URL:https://yourportlandguide.com
X-WR-CALDESC:Events for Your Portland Oregon Guide!
REFRESH-INTERVAL;VALUE=DURATION:PT1H
X-Robots-Tag:noindex
X-PUBLISHED-TTL:PT1H
BEGIN:VTIMEZONE
TZID:America/Los_Angeles
BEGIN:DAYLIGHT
TZOFFSETFROM:-0800
TZOFFSETTO:-0700
TZNAME:PDT
DTSTART:20250309T100000
END:DAYLIGHT
BEGIN:STANDARD
TZOFFSETFROM:-0700
TZOFFSETTO:-0800
TZNAME:PST
DTSTART:20251102T090000
END:STANDARD
BEGIN:DAYLIGHT
TZOFFSETFROM:-0800
TZOFFSETTO:-0700
TZNAME:PDT
DTSTART:20260308T100000
END:DAYLIGHT
BEGIN:STANDARD
TZOFFSETFROM:-0700
TZOFFSETTO:-0800
TZNAME:PST
DTSTART:20261101T090000
END:STANDARD
BEGIN:DAYLIGHT
TZOFFSETFROM:-0800
TZOFFSETTO:-0700
TZNAME:PDT
DTSTART:20270314T100000
END:DAYLIGHT
BEGIN:STANDARD
TZOFFSETFROM:-0700
TZOFFSETTO:-0800
TZNAME:PST
DTSTART:20271107T090000
END:STANDARD
END:VTIMEZONE
BEGIN:VEVENT
DTSTART;TZID=America/Los_Angeles:20260306T140000
DTEND;TZID=America/Los_Angeles:20260307T180000
DTSTAMP:20260421T174258
CREATED:20260220T011255Z
LAST-MODIFIED:20260220T011257Z
UID:10000078-1772805600-1772906400@yourportlandguide.com
SUMMARY:Abby's Closet 2026 Prom Dress Giveaway Event
DESCRIPTION:ABBY’S CLOSET PROM DRESS GIVEAWAY\, MARCH 6-7 2026\, OREGON CONVENTION CENTER\, EXHIBIT HALL D\n\n\nLooking for a Prom dress? You’re in luck! \nEach spring\, Abby’s Closet invites high school students to a 2-day Prom Dress Giveaway where you can choose a dress that fits your unique style—completely FREE of charge. \nWith more than 5\,000 dresses to choose from\, we have vintage and brand new\, short and long\, and sizes 0-20+. Abby’s Closet believes all high school students should be able to attend Prom without worrying about the cost. We welcome people of different gender identities\, abilities\, sizes\, and socioeconomic status. The goal of Abby’s Closet is to make every participant feel special\, beautiful\, and confident. \nThis year we are doing something new and switching things up by moving to a Friday afternoon/evening and all day Saturday. This means no Sunday shopping\, but we hope this change provides a better opportunity for more to join in the fun! \n \nNOTE: The check-in times is when to come and we’ll do a quick Student ID check\, but then you will still need to wait before you are let in to the shopping area.  Plan on the additional wait being about 30 minutes to an hour after you check-in.  We will try to get you in as quickly as possible\, but we also have to do additional crowd control based on how fast other students are finding dresses.  \n \nFRIDAY\, MARCH 6TH \n\n2:00PM – First checkin\n6:00PM – Last checkin\n6:30PM – Doors Close\n7:30PM – Shop closes\, everyone must leave\n\n \nSATURDAY\, MARCH 7TH \n\n8:30AM – First checkin\, Ribbon Cutting at 9\, and then the shop opens (NOTE: for these early check-ins\, there is a chance you may wait 30 min to an hour before being able to get in due to crowd control)\n4:00PM – Last checkin\n4:30PM – Doors close\n6:00PM – Shop closes\, everyone must leave\n\n \nWHAT TO COMPLETE PRIOR: \n\nAll students must register online (ONE TICKET PER STUDENT).\nIf you are unable to attend\, please cancel your registration to free up your spot.\nIf you have registered for more than one slot\, you will be removed from ALL of your slots.\nIf you are with a school that is coming as a group/bus\, do not register here. Double check with the educator organizing the bus to ensure your name is on their list which will be provided to us directly from the educator.\n\n \nWHAT TO BRING AND WHAT TO KNOW: \n\nHIGH SCHOOL ID/Proof of enrollment (Online portal or student ID card will work)\nName on ID\, must match the name registered here!\nLimit 1 guest (ex. guardian\, NOT another student) per student\nIf you feel ill or have any symptoms\, please stay home.\n\n \nSign up now for a time slot that works for you!!!\n \nHEALTH AND SAFETY NOTICETo help keep everyone healthy\, please do not attend if you are sick or have had a fever\, vomiting\, or diarrhea in the past 24 hours. If you’ve recently had COVID-19\, please wear a mask around others for up to 10 days after symptoms or a positive test. Thank you for helping us keep this event safe for all.
URL:https://yourportlandguide.com/event/abbys-closet-2026-prom-dress-giveaway-event/
LOCATION:Oregon Convention Center- Exhibit Hall D\, 777 Northeast Martin Luther King Junior Boulevard\, Portland\, OR\, 97232\, United States
END:VEVENT
BEGIN:VEVENT
DTSTART;TZID=America/Los_Angeles:20260307T110000
DTEND;TZID=America/Los_Angeles:20260307T160000
DTSTAMP:20260421T174258
CREATED:20260220T011325Z
LAST-MODIFIED:20260220T011326Z
UID:10000080-1772881200-1772899200@yourportlandguide.com
SUMMARY:The Wild Bunch
DESCRIPTION:The Wild Bunch returns with 70+ wineries\, cideries and importers pouring wines from around the world. Plus music\, coffee\, and food all day!\n\n\nThe Wild Bunch is a wine fair in Portland\, Oregon’s\, featuring over 70 winemakers\, cidermakers and importers pouring 400+ wines from across the globe. Join us for a day of tasting at the Premier Gear and Machine Works building in industrial northwest Portland. We’ll have food\, coffee\, a retail shop\, and a rotation of DJs all day. A full list of participants can be found on our website. \nTickets cover entry\, a take-home logo’d wine glass\, and unlimited wine tasting; food and other beverages available for purchase. Must be 21+ to attend\, ID required at check-in.
URL:https://yourportlandguide.com/event/the-wild-bunch/
LOCATION:Premier Gear & Machine Works Building\, 1715 Northwest 17th Avenue\, Portland\, OR\, 97209\, United States
END:VEVENT
END:VCALENDAR