BEGIN:VCALENDAR
VERSION:2.0
PRODID:-//Your Portland Oregon Guide! - ECPv6.15.20//NONSGML v1.0//EN
CALSCALE:GREGORIAN
METHOD:PUBLISH
X-WR-CALNAME:Your Portland Oregon Guide!
X-ORIGINAL-URL:https://yourportlandguide.com
X-WR-CALDESC:Events for Your Portland Oregon Guide!
REFRESH-INTERVAL;VALUE=DURATION:PT1H
X-Robots-Tag:noindex
X-PUBLISHED-TTL:PT1H
BEGIN:VTIMEZONE
TZID:America/Los_Angeles
BEGIN:DAYLIGHT
TZOFFSETFROM:-0800
TZOFFSETTO:-0700
TZNAME:PDT
DTSTART:20250309T100000
END:DAYLIGHT
BEGIN:STANDARD
TZOFFSETFROM:-0700
TZOFFSETTO:-0800
TZNAME:PST
DTSTART:20251102T090000
END:STANDARD
BEGIN:DAYLIGHT
TZOFFSETFROM:-0800
TZOFFSETTO:-0700
TZNAME:PDT
DTSTART:20260308T100000
END:DAYLIGHT
BEGIN:STANDARD
TZOFFSETFROM:-0700
TZOFFSETTO:-0800
TZNAME:PST
DTSTART:20261101T090000
END:STANDARD
BEGIN:DAYLIGHT
TZOFFSETFROM:-0800
TZOFFSETTO:-0700
TZNAME:PDT
DTSTART:20270314T100000
END:DAYLIGHT
BEGIN:STANDARD
TZOFFSETFROM:-0700
TZOFFSETTO:-0800
TZNAME:PST
DTSTART:20271107T090000
END:STANDARD
END:VTIMEZONE
BEGIN:VEVENT
DTSTART;TZID=America/Los_Angeles:20260302T190000
DTEND;TZID=America/Los_Angeles:20260302T210000
DTSTAMP:20260421T175324
CREATED:20260220T004813Z
LAST-MODIFIED:20260220T004815Z
UID:10000023-1772478000-1772485200@yourportlandguide.com
SUMMARY:Lauren Groff in Conversation With Lydia Kiesling
DESCRIPTION:Join us on March 2nd as we welcome three-time National Book Award finalist Lauren Groff in conversation with Lydia Kiesling!\n\n\nBrawler (Riverhead) is a stunning\, fierce collection from three-time National Book Award finalist Lauren Groff\, a master of the short story and one of the most important writers of our time. Read alone\, each story in Groff’s electric new collection is an individual triumph\, bold\, agile\, and packed with power. Read together\, they hum in exhilarating resonance. Ranging from the 1950s to the present day and moving across age\, class\, and region — from New England to Florida to California — these nine stories reflect and expand upon a shared theme: the ceaseless battle between humans’ dark and light angels. “In every human there is both an animal and a god wrestling unto death\,” one character tells us. Among those we see caught in this match are a young woman suddenly responsible for her disabled sibling\, a hot-tempered high school swimmer in need of an adult\, a mother blinded by the loss of her family\, and a banking scion endowed with a different kind of inheritance. Motivated by love\, impeded by the double edges of other people’s good intentions\, they try to do the right thing for as long as they can. Precise\, surprising\, and provocative\, anchored by profound insight into human nature\, Brawler reveals the repeated\, sometimes heartbreaking turning points between love and fear\, compassion and violence\, reason and instinct\, altruism and what it takes to survive. Groff will be joined in conversation by Lydia Kiesling\, author of Mobility. \nPlease note: This is a ticketed event. Tickets include admission\, as well as one hardcover copy of Brawler. Books distributed at event. \nDisclaimer: If you are not able to make it to the event after the refund period has lapsed\, your book will be held at the venue for 14 days following the event unless you reach out to our Customer Contact Center (help@powells.com). After that time the book is considered abandoned and we will restock the product to our inventory.
URL:https://yourportlandguide.com/event/lauren-groff-in-conversation-with-lydia-kiesling/
LOCATION:Powell’s City of Books\, 1005 West Burnside Street\, Portland\, OR\, 97209\, United States
END:VEVENT
BEGIN:VEVENT
DTSTART;TZID=America/Los_Angeles:20260302T190000
DTEND;TZID=America/Los_Angeles:20260302T210000
DTSTAMP:20260421T175324
CREATED:20260220T004816Z
LAST-MODIFIED:20260220T004816Z
UID:10000024-1772478000-1772485200@yourportlandguide.com
SUMMARY:Heather Fawcett in Conversation With Laini Taylor
DESCRIPTION:Join us on March 2nd as we welcome Heather Fawcett in conversation with Laini Taylor!\n\n\nA woman who runs a cat rescue in 1920s Montréal turns to a grouchy but charming magician to help save her shelter in Agnes Aubert’s Mystical Cat Shelter (Del Rey)\, the heartwarming cozy fantasy from Heather Fawcett\, bestselling author of the Emily Wilde series. Agnes Aubert leads a meticulously organized life\, and she likes it that way. As the proudly type-A manager of a cat rescue charity\, she has devoted her life to finding forever homes for stray cats. Now it’s the shelter that needs a new home. And the only landlord who will rent a space to a cat rescue is a mysterious man called Havelock — who also happens to be the world’s most infamous magician\, running an illegal magic shop out of his basement. Havelock is cantankerous and eccentric\, but not not handsome\, and no\, Agnes absolutely does not feel anything but disdain for him. After all\, rumors swirl about his shadowy past — including whispers that his dark magic once almost brought about the apocalypse. Then one day a glamorous magician comes looking for Havelock\, putting the magic shop — and the cat shelter — in jeopardy. To save the shelter\, Agnes will have to team up with the magician who nearly ended the world… and may now be trying to steal her heart. Havelock is everything Agnes thinks she doesn’t need in her life: chaos\, mischief\, and a little too much adventure. But as she gets to know him\, she discovers that he’s more than the dark magician of legend\, and that she may be ready for a little intrigue — and romance — in her life. After all\, second chances aren’t just for rescue cats. Fawcett will be joined in conversation by Laini Taylor\, author of the Daughter of Smoke and Bone trilogy. \nPlease note: This is a ticketed event. Tickets include admission\, as well as one hardcover copy of Agnes Aubert’s Mystical Cat Shelter. Books distributed at event. \nDisclaimer: If you are not able to make it to the event after the refund period has lapsed\, your book will be held at the venue for 14 days following the event unless you reach out to our Customer Contact Center (help@powells.com). After that time the book is considered abandoned and we will restock the product to our inventory.
URL:https://yourportlandguide.com/event/heather-fawcett-in-conversation-with-laini-taylor/
LOCATION:Powell’s Books at Cedar Hills Crossing\, 3415 Southwest Cedar Hills Boulevard\, Beaverton\, OR\, 97005\, United States
END:VEVENT
BEGIN:VEVENT
DTSTART;TZID=America/Los_Angeles:20260302T190000
DTEND;TZID=America/Los_Angeles:20260302T210000
DTSTAMP:20260421T175324
CREATED:20260220T004816Z
LAST-MODIFIED:20260220T004816Z
UID:10000030-1772478000-1772485200@yourportlandguide.com
SUMMARY:Heather Fawcett in Conversation With Laini Taylor
DESCRIPTION:Join us on March 2nd as we welcome Heather Fawcett in conversation with Laini Taylor!\n\n\nA woman who runs a cat rescue in 1920s Montréal turns to a grouchy but charming magician to help save her shelter in Agnes Aubert’s Mystical Cat Shelter (Del Rey)\, the heartwarming cozy fantasy from Heather Fawcett\, bestselling author of the Emily Wilde series. Agnes Aubert leads a meticulously organized life\, and she likes it that way. As the proudly type-A manager of a cat rescue charity\, she has devoted her life to finding forever homes for stray cats. Now it’s the shelter that needs a new home. And the only landlord who will rent a space to a cat rescue is a mysterious man called Havelock — who also happens to be the world’s most infamous magician\, running an illegal magic shop out of his basement. Havelock is cantankerous and eccentric\, but not not handsome\, and no\, Agnes absolutely does not feel anything but disdain for him. After all\, rumors swirl about his shadowy past — including whispers that his dark magic once almost brought about the apocalypse. Then one day a glamorous magician comes looking for Havelock\, putting the magic shop — and the cat shelter — in jeopardy. To save the shelter\, Agnes will have to team up with the magician who nearly ended the world… and may now be trying to steal her heart. Havelock is everything Agnes thinks she doesn’t need in her life: chaos\, mischief\, and a little too much adventure. But as she gets to know him\, she discovers that he’s more than the dark magician of legend\, and that she may be ready for a little intrigue — and romance — in her life. After all\, second chances aren’t just for rescue cats. Fawcett will be joined in conversation by Laini Taylor\, author of the Daughter of Smoke and Bone trilogy. \nPlease note: This is a ticketed event. Tickets include admission\, as well as one hardcover copy of Agnes Aubert’s Mystical Cat Shelter. Books distributed at event. \nDisclaimer: If you are not able to make it to the event after the refund period has lapsed\, your book will be held at the venue for 14 days following the event unless you reach out to our Customer Contact Center (help@powells.com). After that time the book is considered abandoned and we will restock the product to our inventory.
URL:https://yourportlandguide.com/event/heather-fawcett-in-conversation-with-laini-taylor-2/
LOCATION:Powell’s Books at Cedar Hills Crossing\, 3415 Southwest Cedar Hills Boulevard\, Beaverton\, OR\, 97005\, United States
END:VEVENT
END:VCALENDAR