BEGIN:VCALENDAR
VERSION:2.0
PRODID:-//Your Portland Oregon Guide! - ECPv6.15.20//NONSGML v1.0//EN
CALSCALE:GREGORIAN
METHOD:PUBLISH
X-WR-CALNAME:Your Portland Oregon Guide!
X-ORIGINAL-URL:https://yourportlandguide.com
X-WR-CALDESC:Events for Your Portland Oregon Guide!
REFRESH-INTERVAL;VALUE=DURATION:PT1H
X-Robots-Tag:noindex
X-PUBLISHED-TTL:PT1H
BEGIN:VTIMEZONE
TZID:America/Los_Angeles
BEGIN:DAYLIGHT
TZOFFSETFROM:-0800
TZOFFSETTO:-0700
TZNAME:PDT
DTSTART:20250309T100000
END:DAYLIGHT
BEGIN:STANDARD
TZOFFSETFROM:-0700
TZOFFSETTO:-0800
TZNAME:PST
DTSTART:20251102T090000
END:STANDARD
BEGIN:DAYLIGHT
TZOFFSETFROM:-0800
TZOFFSETTO:-0700
TZNAME:PDT
DTSTART:20260308T100000
END:DAYLIGHT
BEGIN:STANDARD
TZOFFSETFROM:-0700
TZOFFSETTO:-0800
TZNAME:PST
DTSTART:20261101T090000
END:STANDARD
BEGIN:DAYLIGHT
TZOFFSETFROM:-0800
TZOFFSETTO:-0700
TZNAME:PDT
DTSTART:20270314T100000
END:DAYLIGHT
BEGIN:STANDARD
TZOFFSETFROM:-0700
TZOFFSETTO:-0800
TZNAME:PST
DTSTART:20271107T090000
END:STANDARD
END:VTIMEZONE
BEGIN:VEVENT
DTSTART;TZID=America/Los_Angeles:20260220T180000
DTEND;TZID=America/Los_Angeles:20260222T233000
DTSTAMP:20260421T194057
CREATED:20260220T010159Z
LAST-MODIFIED:20260220T010159Z
UID:10000059-1771610400-1771803000@yourportlandguide.com
SUMMARY:Rose City Blues 2026 Mardi Gras Jamboree
DESCRIPTION:Portland’s premier blues dancing festival! Great music\, great dance classes\, dance all night.\n\n\nFacebook Eventhttps://www.facebook.com/share/16Nt66s98Y/ \nPortland Blues and Jazz Dance Society is proud to present Rose City Blues 2026- Mardi Gras Jamboree! \nSchedule!https://docs.google.com/…/1tWBO8gTM9wvs-OC52…/edit… \nFebruary 20- 22\, 2026 \nFeaturing New Orleans style music from~ \nThe Norman Sylvester BandAlan Hager and Allen MarkelThe Webfoot Brass BandKevin Selfe DuoJr T Duo \nFeaturing Dance workshops byUndre Reed (Yakima)Michael Galen (Portland)Rachel Stirling (Portland)Lila Faria and Dillon Arevelo (Seattle)Matthew Tsunami \nFeatured DJsAlly YanceySammie McKibbensUndre ReedKenya SoulRachel StirlingTrina SiebertMatthew TsunamiTony SciscioRémy BaheuxKaren Maria CapoTrinidad Perez \nStorytellersMs. VeeAlan Hager \nDaytime dance workshops and evening dances at the beautiful and historic Alberta Abbey.https://www.albertaabbey.org/information \nDuring the Main Band Breaks:Instructor Showcase and LED Parade Friday NightMix and Match Dance Contest Saturday NightSolo Dance Contest Sunday Night \nWe are proud to partner with Mysti Krewe of Nimbus to feature an indoor parade! \nIn celebration of Black History Month we will be honoring Black history through dance! \nFull Weekend/All Access PassesRegular price $200 \nIf you can pay more $250 \nTICKETSDance PassesAll 3 evening socials $70Single evening social $30Workshop PassesSingle workshops $20 each \nSPONSORSCascade ZydecoMysti Krewe of Nimbus \nThank you Azita Roshani for this year’s logo! \nAttendees will be required to do daily testing for the event. Masks are encouraged and provided. We have tests available for free at the door.
URL:https://yourportlandguide.com/event/rose-city-blues-2026-mardi-gras-jamboree/
LOCATION:Alberta Abbey\, 126 Northeast Alberta Street\, Portland\, OR\, 97211\, United States
END:VEVENT
BEGIN:VEVENT
DTSTART;TZID=America/Los_Angeles:20260222T083000
DTEND;TZID=America/Los_Angeles:20260222T170000
DTSTAMP:20260421T194057
CREATED:20260220T011142Z
LAST-MODIFIED:20260220T011143Z
UID:10000077-1771749000-1771779600@yourportlandguide.com
SUMMARY:OCHA 2026 Lunar New Year Celebration and Basketball Invitational
DESCRIPTION:Join us in person for OCHA 2026’s Lunar New Year bash and epic basketball showdown!\n\n\nJoin the Oregon Chinese Hoop Alliance (OCHA) and Portland business and API communities for a vibrant celebration of the 2026 Lunar New Year at the Moda Center! \nThis exclusive\, invitation-only event features a full day of cultural attractions\, including a community basketball invitational on the Blazers’ iconic court\, a lively New Year market conceptual experience showcasing local Asian cuisine by FLOCK (Ritz-Carlton Food Hall) and its renowned vendors\, and community organizations for OCHA’s annual celebration program. \nGuests will enjoy a unique blend of sports\, culture\, and culinary delights as we usher in the Year of the Horse together. This collaboration aims to foster understanding\, inclusivity\, and community spirit\, welcoming distinguished guests\, community leaders\, and basketball enthusiasts from Oregon and the Pacific Northwest. \nRegistration: Free for all general attendess. Registration through this Eventbrite page is required. \n*This event is invitational and organized by OCHA\, its collaborators\, sponsors\, and the Portland Trail Blazers. \nLocation: \nModa Center (Trail Blazers’ Home Court) \n200 N Ramsay Wy\, Portland\, OR 97227 \nEntrance: The only entrance is located in the Garden Garage P2 ( Add: 200 N Ramsay Wy\, Portland\, OR 97227) \nParking: Complimentary\, on a first-come\, first-served basis\, with Level-2 of the Garden Garage offering the most convenient access.
URL:https://yourportlandguide.com/event/ocha-2026-lunar-new-year-celebration-and-basketball-invitational/
LOCATION:Moda Center\, 1 North Center Court Street\, Portland\, OR\, 97227\, United States
END:VEVENT
BEGIN:VEVENT
DTSTART;TZID=America/Los_Angeles:20260222T110000
DTEND;TZID=America/Los_Angeles:20260222T133000
DTSTAMP:20260421T194057
CREATED:20260220T012254Z
LAST-MODIFIED:20260220T012254Z
UID:10000090-1771758000-1771767000@yourportlandguide.com
SUMMARY:DRAG BRUNCH BAR-CALA (Sunday February 22nd)
DESCRIPTION:DRAG BRUNCH BAR-CALA (Sunday February 22nd)\n\n\n💃 Expect Glitter\, Glamour\, and Show-Stopping Performances! 💃Our queens will light up the stage with their talent\, fierce moves\, and unforgettable charisma. You’ll be on your feet cheering as they deliver an epic performance designed to lift your spirits and leave you in awe. \n🍽️ Get Ready to Feast and Have Fun! 🍽️Indulge in delicious brunch options while watching the most fabulous queens in town. It’s a perfect blend of drag\, dancing\, and deliciousness that will leave you smiling all day long! \n✨ Don’t Miss Out – Last 4 Brunches Sold Out! ✨This event sells out fast\, so get your tickets now to ensure you’re part of the fun! Bring your ones to tip the queens (they love a good tip!) and be sure to show up in your most fabulous brunch look. The queens want to see your style\, darling! \n🎉 All Ages Welcome – PG-13 Vibes Only! 🎉Whether you’re here for the sparkle\, the sass\, or the drag\, this is a family-friendly event (with a cheeky twist!)—perfect for all ages! \n🔥 Arrive Early to Secure the Best Seats! 🔥This is a first-come\, first-served seating event\, so arrive early to snag the best view of the stage. Trust us\, you’ll want to be up close for all the action! \nDon’t wait—grab your tickets today and be ready for a brunch experience that’s as fabulous as you are! 💖 \nSee you there\, diva!!! \n(CHECK OUT @BRUNCHPORTLAND on IG for videos and photos from PAST events!
URL:https://yourportlandguide.com/event/drag-brunch-bar-cala-sunday-february-22nd/
LOCATION:Bar Cala\, 2703 Northeast Alberta Street\, Portland\, OR\, 97211\, United States
END:VEVENT
BEGIN:VEVENT
DTSTART;TZID=America/Los_Angeles:20260222T110000
DTEND;TZID=America/Los_Angeles:20260222T133000
DTSTAMP:20260421T194057
CREATED:20260220T012254Z
LAST-MODIFIED:20260220T012254Z
UID:10000095-1771758000-1771767000@yourportlandguide.com
SUMMARY:DRAG BRUNCH BAR-CALA (Sunday February 22nd)
DESCRIPTION:DRAG BRUNCH BAR-CALA (Sunday February 22nd)\n\n\n💃 Expect Glitter\, Glamour\, and Show-Stopping Performances! 💃Our queens will light up the stage with their talent\, fierce moves\, and unforgettable charisma. You’ll be on your feet cheering as they deliver an epic performance designed to lift your spirits and leave you in awe. \n🍽️ Get Ready to Feast and Have Fun! 🍽️Indulge in delicious brunch options while watching the most fabulous queens in town. It’s a perfect blend of drag\, dancing\, and deliciousness that will leave you smiling all day long! \n✨ Don’t Miss Out – Last 4 Brunches Sold Out! ✨This event sells out fast\, so get your tickets now to ensure you’re part of the fun! Bring your ones to tip the queens (they love a good tip!) and be sure to show up in your most fabulous brunch look. The queens want to see your style\, darling! \n🎉 All Ages Welcome – PG-13 Vibes Only! 🎉Whether you’re here for the sparkle\, the sass\, or the drag\, this is a family-friendly event (with a cheeky twist!)—perfect for all ages! \n🔥 Arrive Early to Secure the Best Seats! 🔥This is a first-come\, first-served seating event\, so arrive early to snag the best view of the stage. Trust us\, you’ll want to be up close for all the action! \nDon’t wait—grab your tickets today and be ready for a brunch experience that’s as fabulous as you are! 💖 \nSee you there\, diva!!! \n(CHECK OUT @BRUNCHPORTLAND on IG for videos and photos from PAST events!
URL:https://yourportlandguide.com/event/drag-brunch-bar-cala-sunday-february-22nd-2/
LOCATION:Bar Cala\, 2703 Northeast Alberta Street\, Portland\, OR\, 97211\, United States
END:VEVENT
BEGIN:VEVENT
DTSTART;TZID=America/Los_Angeles:20260222T140000
DTEND;TZID=America/Los_Angeles:20260222T163000
DTSTAMP:20260421T194057
CREATED:20260220T012256Z
LAST-MODIFIED:20260220T012256Z
UID:10000091-1771768800-1771777800@yourportlandguide.com
SUMMARY:DRAG BRUNCH BAR-CALA (Sunday February 22nd) with KERRI COLBY
DESCRIPTION:DRAG BRUNCH BAR-CALA (Sunday February 22nd) with KERRI COLBY\n\n\nKERRI COLBY IS BACK!  \n \n💃 Expect Glitter\, Glamour\, and Show-Stopping Performances! 💃Our queens will light up the stage with their talent\, fierce moves\, and unforgettable charisma. You’ll be on your feet cheering as they deliver an epic performance designed to lift your spirits and leave you in awe. \n🍽️ Get Ready to Feast and Have Fun! 🍽️Indulge in delicious brunch options while watching the most fabulous queens in town. It’s a perfect blend of drag\, dancing\, and deliciousness that will leave you smiling all day long! \n✨ Don’t Miss Out – Last 4 Brunches Sold Out! ✨This event sells out fast\, so get your tickets now to ensure you’re part of the fun! Bring your ones to tip the queens (they love a good tip!) and be sure to show up in your most fabulous brunch look. The queens want to see your style\, darling! \n🎉 All Ages Welcome – PG-13 Vibes Only! 🎉Whether you’re here for the sparkle\, the sass\, or the drag\, this is a family-friendly event (with a cheeky twist!)—perfect for all ages! \n🔥 Arrive Early to Secure the Best Seats! 🔥This is a first-come\, first-served seating event\, so arrive early to snag the best view of the stage. Trust us\, you’ll want to be up close for all the action! \nDon’t wait—grab your tickets today and be ready for a brunch experience that’s as fabulous as you are! 💖 \nSee you there\, diva!!! \n(CHECK OUT @BRUNCHPORTLAND on IG for videos and photos from PAST events! \nShow less
URL:https://yourportlandguide.com/event/drag-brunch-bar-cala-sunday-february-22nd-with-kerri-colby/
LOCATION:Bar Cala\, 2703 Northeast Alberta Street\, Portland\, OR\, 97211\, United States
END:VEVENT
BEGIN:VEVENT
DTSTART;TZID=America/Los_Angeles:20260222T140000
DTEND;TZID=America/Los_Angeles:20260222T163000
DTSTAMP:20260421T194057
CREATED:20260220T012256Z
LAST-MODIFIED:20260220T012256Z
UID:10000096-1771768800-1771777800@yourportlandguide.com
SUMMARY:DRAG BRUNCH BAR-CALA (Sunday February 22nd) with KERRI COLBY
DESCRIPTION:DRAG BRUNCH BAR-CALA (Sunday February 22nd) with KERRI COLBY\n\n\nKERRI COLBY IS BACK!  \n \n💃 Expect Glitter\, Glamour\, and Show-Stopping Performances! 💃Our queens will light up the stage with their talent\, fierce moves\, and unforgettable charisma. You’ll be on your feet cheering as they deliver an epic performance designed to lift your spirits and leave you in awe. \n🍽️ Get Ready to Feast and Have Fun! 🍽️Indulge in delicious brunch options while watching the most fabulous queens in town. It’s a perfect blend of drag\, dancing\, and deliciousness that will leave you smiling all day long! \n✨ Don’t Miss Out – Last 4 Brunches Sold Out! ✨This event sells out fast\, so get your tickets now to ensure you’re part of the fun! Bring your ones to tip the queens (they love a good tip!) and be sure to show up in your most fabulous brunch look. The queens want to see your style\, darling! \n🎉 All Ages Welcome – PG-13 Vibes Only! 🎉Whether you’re here for the sparkle\, the sass\, or the drag\, this is a family-friendly event (with a cheeky twist!)—perfect for all ages! \n🔥 Arrive Early to Secure the Best Seats! 🔥This is a first-come\, first-served seating event\, so arrive early to snag the best view of the stage. Trust us\, you’ll want to be up close for all the action! \nDon’t wait—grab your tickets today and be ready for a brunch experience that’s as fabulous as you are! 💖 \nSee you there\, diva!!! \n(CHECK OUT @BRUNCHPORTLAND on IG for videos and photos from PAST events! \nShow less
URL:https://yourportlandguide.com/event/drag-brunch-bar-cala-sunday-february-22nd-with-kerri-colby-2/
LOCATION:Bar Cala\, 2703 Northeast Alberta Street\, Portland\, OR\, 97211\, United States
END:VEVENT
END:VCALENDAR